BEGIN:VCALENDAR
VERSION:2.0
PRODID:-//Winona Arts Center - ECPv6.15.20//NONSGML v1.0//EN
CALSCALE:GREGORIAN
METHOD:PUBLISH
X-WR-CALNAME:Winona Arts Center
X-ORIGINAL-URL:https://winonaarts.org
X-WR-CALDESC:Events for Winona Arts Center
REFRESH-INTERVAL;VALUE=DURATION:PT1H
X-Robots-Tag:noindex
X-PUBLISHED-TTL:PT1H
BEGIN:VTIMEZONE
TZID:America/Chicago
BEGIN:DAYLIGHT
TZOFFSETFROM:-0600
TZOFFSETTO:-0500
TZNAME:CDT
DTSTART:20250309T080000
END:DAYLIGHT
BEGIN:STANDARD
TZOFFSETFROM:-0500
TZOFFSETTO:-0600
TZNAME:CST
DTSTART:20251102T070000
END:STANDARD
BEGIN:DAYLIGHT
TZOFFSETFROM:-0600
TZOFFSETTO:-0500
TZNAME:CDT
DTSTART:20260308T080000
END:DAYLIGHT
BEGIN:STANDARD
TZOFFSETFROM:-0500
TZOFFSETTO:-0600
TZNAME:CST
DTSTART:20261101T070000
END:STANDARD
BEGIN:DAYLIGHT
TZOFFSETFROM:-0600
TZOFFSETTO:-0500
TZNAME:CDT
DTSTART:20270314T080000
END:DAYLIGHT
BEGIN:STANDARD
TZOFFSETFROM:-0500
TZOFFSETTO:-0600
TZNAME:CST
DTSTART:20271107T070000
END:STANDARD
END:VTIMEZONE
BEGIN:VEVENT
DTSTART;TZID=America/Chicago:20260202T180000
DTEND;TZID=America/Chicago:20260202T200000
DTSTAMP:20260419T201219
CREATED:20251021T162104Z
LAST-MODIFIED:20251021T162104Z
UID:4857-1770055200-1770062400@winonaarts.org
SUMMARY:Drum Circle
DESCRIPTION:
URL:https://winonaarts.org/event/drum-circle-73/
LOCATION:Winona Arts Center\, 228 East 5th Street\, Winona\, MN\, 55987\, United States
CATEGORIES:Drum Circle
END:VEVENT
BEGIN:VEVENT
DTSTART;TZID=America/Chicago:20260207T130000
DTEND;TZID=America/Chicago:20260207T160000
DTSTAMP:20260419T201219
CREATED:20260222T233122Z
LAST-MODIFIED:20260222T233122Z
UID:5423-1770469200-1770480000@winonaarts.org
SUMMARY:Art Gallery Open
DESCRIPTION:
URL:https://winonaarts.org/event/art-gallery-open-95/
LOCATION:Winona Arts Center\, 228 East 5th Street\, Winona\, MN\, 55987\, United States
CATEGORIES:Gallery
END:VEVENT
BEGIN:VEVENT
DTSTART;TZID=America/Chicago:20260208T130000
DTEND;TZID=America/Chicago:20260208T160000
DTSTAMP:20260419T201219
CREATED:20260222T233219Z
LAST-MODIFIED:20260222T233219Z
UID:5425-1770555600-1770566400@winonaarts.org
SUMMARY:Art Gallery Open
DESCRIPTION:
URL:https://winonaarts.org/event/art-gallery-open-96/
LOCATION:Winona Arts Center\, 228 East 5th Street\, Winona\, MN\, 55987\, United States
CATEGORIES:Gallery
END:VEVENT
BEGIN:VEVENT
DTSTART;TZID=America/Chicago:20260209T180000
DTEND;TZID=America/Chicago:20260209T200000
DTSTAMP:20260419T201219
CREATED:20251021T162209Z
LAST-MODIFIED:20251021T162209Z
UID:4859-1770660000-1770667200@winonaarts.org
SUMMARY:Drum Circle
DESCRIPTION:
URL:https://winonaarts.org/event/drum-circle-74/
LOCATION:Winona Arts Center\, 228 East 5th Street\, Winona\, MN\, 55987\, United States
CATEGORIES:Drum Circle
END:VEVENT
BEGIN:VEVENT
DTSTART;TZID=America/Chicago:20260210T173000
DTEND;TZID=America/Chicago:20260210T193000
DTSTAMP:20260419T201219
CREATED:20260119T063624Z
LAST-MODIFIED:20260120T173749Z
UID:5346-1770744600-1770751800@winonaarts.org
SUMMARY:Beginner's Workshop: Learn the Magic of Watercolor with Miranda Lomeli-O’Reilly
DESCRIPTION:Feb 10\, 17\, & 24  / 5:30pm – 7:30pm / Cost: $135 members or $150 non-members\nMaterials fee: $20 (one-time fee) \nWinona Arts Center hosts Miranda Lomeli-O’Reilly Beginner’s Workshop: Learn the Magic of Watercolor\, a three-part series. \nJoin our three-part weekly workshop\, perfect for absolute beginners or anyone looking to refresh their foundational skills! Gain the confidence and techniques necessary to start your own watercolor practice. \nClass fees are $135 for members or $150 for non-members.  One time $20 material fee. Scholarships are available. \nRegister with Jen at jsbenson50+WAC@gmail.com. 
URL:https://winonaarts.org/event/beginners-workshop-learn-the-magic-of-watercolor-with-miranda-lomeli-oreilly/
LOCATION:Winona Arts Center\, 228 East 5th Street\, Winona\, MN\, 55987\, United States
CATEGORIES:Classes
ATTACH;FMTTYPE=image/png:https://winonaarts.org/wp-content/uploads/2025/12/ink-and-paintbrush_watercolor-class-trans-e1766115604902.png
ORGANIZER;CN="Jen Benson":MAILTO:jsbenson50@gmail.com
END:VEVENT
BEGIN:VEVENT
DTSTART;TZID=America/Chicago:20260212T170000
DTEND;TZID=America/Chicago:20260212T193000
DTSTAMP:20260419T201219
CREATED:20260119T063100Z
LAST-MODIFIED:20260121T191504Z
UID:5344-1770915600-1770924600@winonaarts.org
SUMMARY:Gel Plate Printing 2.0 with Terri Lieder
DESCRIPTION:Cost:  $30 members  / $35 non-members\nWinona Arts Center welcomes back Terri Lieder for Gel Plate Printing 2.0 on February 12 from 5:00 to 7:30pm. This class is a hands-on gel plate printing class where you layer colors and materials (botanicals\, made materials and stencils) for texture on a gel plate to create beautiful\, colorful prints.  The basics of gel plate mono-printing will be covered.  No experience necessary.  All materials are provided.  Cost is $30 for Members and $35 for non-members. Scholarships are available. Class size is limited to 10.  Register today at jsbenson50+WAC@gmail.com.
URL:https://winonaarts.org/event/gel-plate-printing-2-0-with-terri-lieder/
LOCATION:Winona Arts Center\, 228 East 5th Street\, Winona\, MN\, 55987\, United States
CATEGORIES:Classes
ORGANIZER;CN="Jen Benson":MAILTO:jsbenson50@gmail.com
END:VEVENT
BEGIN:VEVENT
DTSTART;TZID=America/Chicago:20260215T150000
DTEND;TZID=America/Chicago:20260215T170000
DTSTAMP:20260419T201219
CREATED:20251123T061025Z
LAST-MODIFIED:20251223T013140Z
UID:5106-1771167600-1771174800@winonaarts.org
SUMMARY:Claudia Schmidt
DESCRIPTION:Sunday / February 15 / 3:00pm\n$25 Advance ($28.52 on Eventbrite) / $30 at the Door\nSkip the Eventbrite fees while supporting your local music store by purchasing directly at Music Mart. Tickets are available at Music Mart until February 14 at 4pm and on Eventbrite until February 15 at 12pm. Music Mart now accepts credit cards and checks made out to Music Mart.\nBuy tickets now: https://www.eventbrite.com/e/claudia-schmidt-tickets-1978860984474?aff=oddtdtcreator\nOpen for gallery at 2:00pm.\nPerformance at 3:00pm\nClaudia Schmidt brings her exuberant music and love of humanity back to the Winona Art Center. With her multi-octave voice\, 12 string guitar and mountain dulcimer\, she weaves together song\, story and spoken word in a one-of-a-kind presentation that will fill your heart and refresh your soul. \nAfter more than 50 years of writing and performing\, she is as strong as ever\, sharing her wonder and amazement at the world and all the creatures\, including us\, who inhabit it. She recently released her 22nd album\, Reimagining\, and is working on new material for yet another release in the not too distant future. Come and get energized\, humorized and harmonized!
URL:https://winonaarts.org/event/claudia-schmidt/
LOCATION:Winona Arts Center\, 228 East 5th Street\, Winona\, MN\, 55987\, United States
CATEGORIES:Concert
ATTACH;FMTTYPE=image/jpeg:https://winonaarts.org/wp-content/uploads/2025/11/Claudia.jpg
END:VEVENT
BEGIN:VEVENT
DTSTART;TZID=America/Chicago:20260216T180000
DTEND;TZID=America/Chicago:20260216T200000
DTSTAMP:20260419T201219
CREATED:20251021T162327Z
LAST-MODIFIED:20251021T162502Z
UID:4861-1771264800-1771272000@winonaarts.org
SUMMARY:Drum Circle
DESCRIPTION:
URL:https://winonaarts.org/event/drum-circle-75/
LOCATION:Winona Arts Center\, 228 East 5th Street\, Winona\, MN\, 55987\, United States
CATEGORIES:Drum Circle
END:VEVENT
BEGIN:VEVENT
DTSTART;TZID=America/Chicago:20260217T173000
DTEND;TZID=America/Chicago:20260217T193000
DTSTAMP:20260419T201219
CREATED:20260119T063714Z
LAST-MODIFIED:20260120T174503Z
UID:5348-1771349400-1771356600@winonaarts.org
SUMMARY:Beginner's Workshop: Learn the Magic of Watercolor with Miranda Lomeli-O'Reilly
DESCRIPTION:Feb 10\, 17\, & 24  / 5:30pm – 7:30pm / Cost: $135 members or $150 non-members\nMaterials fee: $20 (one-time fee) \nWinona Arts Center hosts Miranda Lomeli-O’Reilly Beginner’s Workshop: Learn the Magic of Watercolor\, a three-part series. \nJoin our three-part weekly workshop\, perfect for absolute beginners or anyone looking to refresh their foundational skills! Gain the confidence and techniques necessary to start your own watercolor practice. \nClass fees are $135 for members or $150 for non-members.  One time $20 material fee. Scholarships are available. \nRegister with Jen at jsbenson50+WAC@gmail.com. 
URL:https://winonaarts.org/event/beginners-workshop-learn-the-magic-of-watercolor-with-miranda-lomeli-oreilly-2/
LOCATION:Winona Arts Center\, 228 East 5th Street\, Winona\, MN\, 55987\, United States
CATEGORIES:Classes
ATTACH;FMTTYPE=image/png:https://winonaarts.org/wp-content/uploads/2025/12/ink-and-paintbrush_watercolor-class-trans-e1766115604902.png
ORGANIZER;CN="Jen Benson":MAILTO:jsbenson50@gmail.com
END:VEVENT
BEGIN:VEVENT
DTSTART;TZID=America/Chicago:20260220T190000
DTEND;TZID=America/Chicago:20260220T210000
DTSTAMP:20260419T201219
CREATED:20251123T062901Z
LAST-MODIFIED:20260119T004814Z
UID:5125-1771614000-1771621200@winonaarts.org
SUMMARY:I’m Still Here Winona Film Society
DESCRIPTION:$5 Entry \nDoors open at 6:00pm for gallery. Film at 7:00pm. \nThe wrenching true life saga of a Brazilian family torn apart by the military dictatorship during the 1970’s  A powerful example of survival\, resistance and endurance that explores the permanence of love and grief. Academy Award Winner Best International Film for 2025. (Brazil\, 2024) \nDirected by Walter Salles || Runtime: 135 minutes || Language: Portuguese with English subtitles || Release Year: 2024 || Country: Brazil \n This activity is made possible by the voters of Minnesota through a grant from the Southeastern Minnesota Arts Council thanks to a legislative appropriation from the arts and cultural heritage fund.
URL:https://winonaarts.org/event/im-still-here-winona-film-society/
LOCATION:Winona Arts Center\, 228 East 5th Street\, Winona\, MN\, 55987\, United States
CATEGORIES:Film,Winona Film Society
ATTACH;FMTTYPE=image/png:https://winonaarts.org/wp-content/uploads/2025/11/imstillhere-e1768781337363.png
END:VEVENT
BEGIN:VEVENT
DTSTART;TZID=America/Chicago:20260221T100000
DTEND;TZID=America/Chicago:20260221T110000
DTSTAMP:20260419T201219
CREATED:20251123T061253Z
LAST-MODIFIED:20260113T184306Z
UID:5108-1771668000-1771671600@winonaarts.org
SUMMARY:Conductor Jack—Children's Show
DESCRIPTION:9:30 AM – Doors open\n10:00 to 11:00 AM – Show\nThis is a free children’s show\, no tickets required! Early arrival is highly recommended.\n\nJoin Emmy Award winning educator and children’s entertainer Jack Zinghopper for a kids dance party with live instruments – including guitar\, ukulele\, harmonica\, and more! Named “Nashville’s #1 Children’s Entertainer” for FIVE years in a row\, Jack will get your kids movin’ and groovin’! He even brings a few hand puppets from The Zinghoppers YouTube Kids channel. Get ready to rock\, bop and Zinghop! This performance will be filmed. \nPhoto Credit: Photographer Emma Smith for Jack and Kitty Media Group.
URL:https://winonaarts.org/event/conductor-jack-childrens-show/
LOCATION:Winona Arts Center\, 228 East 5th Street\, Winona\, MN\, 55987\, United States
CATEGORIES:Concert
ATTACH;FMTTYPE=image/png:https://winonaarts.org/wp-content/uploads/2025/12/conductor-jack.png
END:VEVENT
BEGIN:VEVENT
DTSTART;TZID=America/Chicago:20260221T140000
DTEND;TZID=America/Chicago:20260221T163000
DTSTAMP:20260419T201219
CREATED:20260119T060523Z
LAST-MODIFIED:20260119T060523Z
UID:5340-1771682400-1771691400@winonaarts.org
SUMMARY:Suminagashi with Dawn Tevis
DESCRIPTION:Cost: $45 members / $50 non-members\nJoin us on February 21 from 2pm to 4:30 pm at the Winona Arts for another Dawn Tevis Suminagashi class. Celebrate cozy winter with the meditative process of Suminagashi\, or ink floating\, a Japanese paper marbling art at least as old as the 12th century. You’ll float ink in dynamic patterns on water and print unique images on your choice of surfaces\, including notecards\, coasters\, and specialty papers. \nWhether a beginner or practitioner\, you’ll expand your skills by experimenting with new effects and materials and leave with works you can enjoy as-is or use for bookmaking\, painting\, drawing\, and more. Also included will be a take-home supply of protective finish to apply to the coasters once they dry. \nClass is $45 for members and $50 for non-members\, ages 12 and up. No experience necessary. Max class size is 15. Don’t miss out! Scholarships are available. Register today at jsbenson50+WAC@gmail.com
URL:https://winonaarts.org/event/suminagashi-with-dawn-tevis/
LOCATION:Winona Arts Center\, 228 East 5th Street\, Winona\, MN\, 55987\, United States
CATEGORIES:Classes
ATTACH;FMTTYPE=image/png:https://winonaarts.org/wp-content/uploads/2026/01/colorful-coaster-corrected-and-resized-e1768802714206.png
ORGANIZER;CN="Jen Benson":MAILTO:jsbenson50@gmail.com
END:VEVENT
BEGIN:VEVENT
DTSTART;TZID=America/Chicago:20260221T190000
DTEND;TZID=America/Chicago:20260221T210000
DTSTAMP:20260419T201219
CREATED:20251123T061449Z
LAST-MODIFIED:20260113T184350Z
UID:5110-1771700400-1771707600@winonaarts.org
SUMMARY:Jack Norton
DESCRIPTION:6:00 PM – Doors open\n7:00 to 8:00 PM – Show\nThis is a free performance\, no tickets required! Early arrival is highly recommended.\n\nTravel back in time with Emmy Award winning songwriter Jack Norton for a concert of vaudeville blues\, country\, and vintage Americana folk music. Oddball ukulele legend Tiny Tim hailed Norton as “the greatest entertainer I have ever seen!” The Minneapolis Star Tribune called Jack “one of the most entertaining acoustic musicians in the Midwest.” His performances are an authentic throwback to a simpler time and bygone era. This performance will be filmed.
URL:https://winonaarts.org/event/jack-norton-performance/
LOCATION:Winona Arts Center\, 228 East 5th Street\, Winona\, MN\, 55987\, United States
CATEGORIES:Concert
ATTACH;FMTTYPE=image/png:https://winonaarts.org/wp-content/uploads/2025/11/JackNorton_Photo.png
END:VEVENT
BEGIN:VEVENT
DTSTART;TZID=America/Chicago:20260223T180000
DTEND;TZID=America/Chicago:20260223T200000
DTSTAMP:20260419T201219
CREATED:20251021T162558Z
LAST-MODIFIED:20251021T162558Z
UID:4863-1771869600-1771876800@winonaarts.org
SUMMARY:Drum Circle
DESCRIPTION:
URL:https://winonaarts.org/event/drum-circle-76/
LOCATION:Winona Arts Center\, 228 East 5th Street\, Winona\, MN\, 55987\, United States
CATEGORIES:Drum Circle
END:VEVENT
BEGIN:VEVENT
DTSTART;TZID=America/Chicago:20260224T173000
DTEND;TZID=America/Chicago:20260224T193000
DTSTAMP:20260419T201219
CREATED:20260119T063828Z
LAST-MODIFIED:20260120T174540Z
UID:5350-1771954200-1771961400@winonaarts.org
SUMMARY:Beginner’s Workshop: Learn the Magic of Watercolor with Miranda Lomeli-O’Reilly
DESCRIPTION:Feb 10\, 17\, & 24  / 5:30pm – 7:30pm / Cost: $135 members or $150 non-members\nMaterials fee: $20 (one-time fee) \nWinona Arts Center hosts Miranda Lomeli-O’Reilly Beginner’s Workshop: Learn the Magic of Watercolor\, a three-part series. \nJoin our three-part weekly workshop\, perfect for absolute beginners or anyone looking to refresh their foundational skills! Gain the confidence and techniques necessary to start your own watercolor practice. \nClass fees are $135 for members or $150 for non-members.  One time $20 material fee. Scholarships are available. \nRegister with Jen at jsbenson50+WAC@gmail.com. 
URL:https://winonaarts.org/event/beginners-workshop-learn-the-magic-of-watercolor-with-miranda-lomeli-oreilly-3/
LOCATION:Winona Arts Center\, 228 East 5th Street\, Winona\, MN\, 55987\, United States
CATEGORIES:Classes
ATTACH;FMTTYPE=image/png:https://winonaarts.org/wp-content/uploads/2025/12/ink-and-paintbrush_watercolor-class-trans-e1766115604902.png
ORGANIZER;CN="Jen Benson":MAILTO:jsbenson50@gmail.com
END:VEVENT
BEGIN:VEVENT
DTSTART;TZID=America/Chicago:20260228T190000
DTEND;TZID=America/Chicago:20260228T210000
DTSTAMP:20260419T201219
CREATED:20251123T061711Z
LAST-MODIFIED:20251223T044856Z
UID:5112-1772305200-1772312400@winonaarts.org
SUMMARY:Weary Ramblers
DESCRIPTION:$20 Advance ($23.18 on Eventbrite) / $25 at the Door\nSkip the Eventbrite fees while supporting your local music store by purchasing directly at Music Mart. Tickets are available at Music Mart and on Eventbrite until February 28th at 4pm. Music Mart now accepts credit cards and checks made out to Music Mart.\nBuy tickets now: https://www.eventbrite.com/e/weary-ramblers-tickets-1978861321482?aff=oddtdtcreator\nCoffeehouse & gallery open at 6:00pm. Cash bar for wine & beer.\nPerformance at 7:00pm\n“The Weary Ramblers will break your heart and change your life with original songs that cut to the marrow…it doesn’t get more heart-warmingly down home than this recently united duo\, featuring Chad Elliott on guitar and vocals and Kathryn Severing Fox on vocals\, guitar\, fiddle\, viola\, mandolin\, and piano. Both bring a disarming intimacy to their writing\, singing and playing that will leave you glowing with reasons to be alive. Chad is a veteran of the Paradiso stage\, having left us in a puddle…the addition of Kathryn increases the melt factor exponentially.” — Fairfield Muse \n“The Weary Ramblers\, featuring Chad Elliott and Kathryn Fox\, are making waves with their fresh take on folk music. This duo stands out for their exceptional chemistry and multi-instrumental talents\, offering a performance rich in tight harmonies and compelling storytelling. Their performances are not just concerts\, but a journey through heartfelt lyrics and beautifully crafted melodies.” — Heylo
URL:https://winonaarts.org/event/weary-ramblers/
LOCATION:Winona Arts Center\, 228 East 5th Street\, Winona\, MN\, 55987\, United States
CATEGORIES:Concert
ATTACH;FMTTYPE=image/jpeg:https://winonaarts.org/wp-content/uploads/2025/11/weary-Ramblers-photo--scaled.jpg
END:VEVENT
BEGIN:VEVENT
DTSTART;TZID=America/Chicago:20260302T180000
DTEND;TZID=America/Chicago:20260302T193000
DTSTAMP:20260419T201219
CREATED:20260222T232137Z
LAST-MODIFIED:20260303T175450Z
UID:5398-1772474400-1772479800@winonaarts.org
SUMMARY:Drum Circle
DESCRIPTION:
URL:https://winonaarts.org/event/drum-circle-77/
LOCATION:Winona Arts Center\, 228 East 5th Street\, Winona\, MN\, 55987\, United States
CATEGORIES:Drum Circle
END:VEVENT
BEGIN:VEVENT
DTSTART;TZID=America/Chicago:20260303T180000
DTEND;TZID=America/Chicago:20260303T200000
DTSTAMP:20260419T201219
CREATED:20260303T175745Z
LAST-MODIFIED:20260303T175745Z
UID:5463-1772560800-1772568000@winonaarts.org
SUMMARY:Drawing Circle
DESCRIPTION:
URL:https://winonaarts.org/event/drawing-circle-72/
LOCATION:Winona Arts Center\, 228 East 5th Street\, Winona\, MN\, 55987\, United States
CATEGORIES:Drawing Circle
END:VEVENT
BEGIN:VEVENT
DTSTART;TZID=America/Chicago:20260305T163000
DTEND;TZID=America/Chicago:20260305T200000
DTSTAMP:20260419T201219
CREATED:20260303T180329Z
LAST-MODIFIED:20260303T180329Z
UID:5474-1772728200-1772740800@winonaarts.org
SUMMARY:Open Studio
DESCRIPTION:Open Studio is held the 1st & 3rd Thursdays of the month from 4:30pm – 8:00pm!\n\n\n\nThe Open Studio is designed for those who are interested in printmaking and for those who need space to work on their own art projects. Your first visit is free of charge!\n\n\n\nAfter Your First Visit:\no Drop-in Fee: $8 per visit\no Studio Pass: $35 for 5 visits\no No fee for participants who bring their own art supplies\n\n\n\nSpace will be limited to 12 people per Thursday so please make your reservation ahead of time.\n\n\n\nFor more information and to register please contact Jen at jsbenson@gmail.com
URL:https://winonaarts.org/event/open-studio-56/
LOCATION:Winona Arts Center\, 228 East 5th Street\, Winona\, MN\, 55987\, United States
CATEGORIES:Open Studio
ATTACH;FMTTYPE=image/png:https://winonaarts.org/wp-content/uploads/2025/09/Open-Studio-scaled-e1772560990668.png
ORGANIZER;CN="Jen Benson":MAILTO:jsbenson50@gmail.com
END:VEVENT
BEGIN:VEVENT
DTSTART;TZID=America/Chicago:20260307T130000
DTEND;TZID=America/Chicago:20260307T160000
DTSTAMP:20260419T201219
CREATED:20260303T180629Z
LAST-MODIFIED:20260303T180629Z
UID:5478-1772888400-1772899200@winonaarts.org
SUMMARY:Art Gallery Open
DESCRIPTION:
URL:https://winonaarts.org/event/art-gallery-open-97/
LOCATION:Winona Arts Center\, 228 East 5th Street\, Winona\, MN\, 55987\, United States
CATEGORIES:Gallery
END:VEVENT
BEGIN:VEVENT
DTSTART;TZID=America/Chicago:20260308T130000
DTEND;TZID=America/Chicago:20260308T160000
DTSTAMP:20260419T201219
CREATED:20260303T180703Z
LAST-MODIFIED:20260303T180703Z
UID:5480-1772974800-1772985600@winonaarts.org
SUMMARY:Art Gallery Open
DESCRIPTION:
URL:https://winonaarts.org/event/art-gallery-open-98/
LOCATION:Winona Arts Center\, 228 East 5th Street\, Winona\, MN\, 55987\, United States
CATEGORIES:Gallery
END:VEVENT
BEGIN:VEVENT
DTSTART;TZID=America/Chicago:20260308T183000
DTEND;TZID=America/Chicago:20260308T200000
DTSTAMP:20260419T201219
CREATED:20260222T232221Z
LAST-MODIFIED:20260303T175208Z
UID:5400-1772994600-1773000000@winonaarts.org
SUMMARY:Drum Circle
DESCRIPTION:
URL:https://winonaarts.org/event/drum-circle-78/
LOCATION:Winona Arts Center\, 228 East 5th Street\, Winona\, MN\, 55987\, United States
CATEGORIES:Drum Circle
END:VEVENT
BEGIN:VEVENT
DTSTART;TZID=America/Chicago:20260310T180000
DTEND;TZID=America/Chicago:20260310T200000
DTSTAMP:20260419T201219
CREATED:20260303T175914Z
LAST-MODIFIED:20260303T175914Z
UID:5466-1773165600-1773172800@winonaarts.org
SUMMARY:Drawing Circle
DESCRIPTION:
URL:https://winonaarts.org/event/drawing-circle-73/
LOCATION:Winona Arts Center\, 228 East 5th Street\, Winona\, MN\, 55987\, United States
CATEGORIES:Drawing Circle
END:VEVENT
BEGIN:VEVENT
DTSTART;TZID=America/Chicago:20260313T190000
DTEND;TZID=America/Chicago:20260313T210000
DTSTAMP:20260419T201219
CREATED:20251123T063021Z
LAST-MODIFIED:20260119T004727Z
UID:5127-1773428400-1773435600@winonaarts.org
SUMMARY:Women at War Winona Film Society
DESCRIPTION:$5 Entry \nDoors open at 6:00pm for gallery. Film at 7:00pm \nHalla is a 50-year-old environmental activist who crusades against the local aluminum industry in Iceland. As her actions become bolder\, her life changes when she is finally granted permission to adopt a girl from Ukraine. \nDirected by Benedikt Erlingsson || Runtime: 101 minutes || Language: Icelandic with English subtitles. || Release Year: 2018 || Country: Iceland/Ukrainian \n This activity is made possible by the voters of Minnesota through a grant from the Southeastern Minnesota Arts Council thanks to a legislative appropriation from the arts and cultural heritage fund.
URL:https://winonaarts.org/event/women-at-war-winona-film-society/
LOCATION:Winona Arts Center\, 228 East 5th Street\, Winona\, MN\, 55987\, United States
CATEGORIES:Film,Winona Film Society
ATTACH;FMTTYPE=image/png:https://winonaarts.org/wp-content/uploads/2025/11/womanatwar-e1768781988285.png
END:VEVENT
BEGIN:VEVENT
DTSTART;TZID=America/Chicago:20260314T130000
DTEND;TZID=America/Chicago:20260314T160000
DTSTAMP:20260419T201219
CREATED:20260303T180734Z
LAST-MODIFIED:20260303T180734Z
UID:5482-1773493200-1773504000@winonaarts.org
SUMMARY:Art Gallery Open
DESCRIPTION:
URL:https://winonaarts.org/event/art-gallery-open-99/
LOCATION:Winona Arts Center\, 228 East 5th Street\, Winona\, MN\, 55987\, United States
CATEGORIES:Gallery
END:VEVENT
BEGIN:VEVENT
DTSTART;TZID=America/Chicago:20260315T130000
DTEND;TZID=America/Chicago:20260315T160000
DTSTAMP:20260419T201219
CREATED:20260303T180805Z
LAST-MODIFIED:20260314T192948Z
UID:5484-1773579600-1773590400@winonaarts.org
SUMMARY:Art Gallery Open CLOSED DUE TO WEATHER
DESCRIPTION:
URL:https://winonaarts.org/event/art-gallery-open-100/
LOCATION:Winona Arts Center\, 228 East 5th Street\, Winona\, MN\, 55987\, United States
CATEGORIES:Gallery
END:VEVENT
BEGIN:VEVENT
DTSTART;TZID=America/Chicago:20260316T180000
DTEND;TZID=America/Chicago:20260316T193000
DTSTAMP:20260419T201219
CREATED:20260222T232255Z
LAST-MODIFIED:20260303T175521Z
UID:5402-1773684000-1773689400@winonaarts.org
SUMMARY:Drum Circle
DESCRIPTION:
URL:https://winonaarts.org/event/drum-circle-79/
LOCATION:Winona Arts Center\, 228 East 5th Street\, Winona\, MN\, 55987\, United States
CATEGORIES:Drum Circle
END:VEVENT
BEGIN:VEVENT
DTSTART;TZID=America/Chicago:20260317T180000
DTEND;TZID=America/Chicago:20260317T200000
DTSTAMP:20260419T201219
CREATED:20260303T175943Z
LAST-MODIFIED:20260303T175943Z
UID:5468-1773770400-1773777600@winonaarts.org
SUMMARY:Drawing Circle
DESCRIPTION:
URL:https://winonaarts.org/event/drawing-circle-74/
LOCATION:Winona Arts Center\, 228 East 5th Street\, Winona\, MN\, 55987\, United States
CATEGORIES:Drawing Circle
END:VEVENT
BEGIN:VEVENT
DTSTART;TZID=America/Chicago:20260319T163000
DTEND;TZID=America/Chicago:20260319T200000
DTSTAMP:20260419T201219
CREATED:20260303T180430Z
LAST-MODIFIED:20260303T180430Z
UID:5476-1773937800-1773950400@winonaarts.org
SUMMARY:Open Studio
DESCRIPTION:Open Studio is held the 1st & 3rd Thursdays of the month from 4:30pm – 8:00pm!\n\n\n\nThe Open Studio is designed for those who are interested in printmaking and for those who need space to work on their own art projects. Your first visit is free of charge!\n\n\n\nAfter Your First Visit:\no Drop-in Fee: $8 per visit\no Studio Pass: $35 for 5 visits\no No fee for participants who bring their own art supplies\n\n\n\nSpace will be limited to 12 people per Thursday so please make your reservation ahead of time.\n\n\n\nFor more information and to register please contact Jen at jsbenson@gmail.com
URL:https://winonaarts.org/event/open-studio-58/
LOCATION:Winona Arts Center\, 228 East 5th Street\, Winona\, MN\, 55987\, United States
CATEGORIES:Open Studio
ATTACH;FMTTYPE=image/png:https://winonaarts.org/wp-content/uploads/2025/09/Open-Studio-scaled-e1772560990668.png
END:VEVENT
BEGIN:VEVENT
DTSTART;TZID=America/Chicago:20260321T123000
DTEND;TZID=America/Chicago:20260321T160000
DTSTAMP:20260419T201219
CREATED:20260303T165755Z
LAST-MODIFIED:20260303T165755Z
UID:5439-1774096200-1774108800@winonaarts.org
SUMMARY:Ukranian Egg Decorating with Jane Bangsberg
DESCRIPTION:Saturday / March 21 / 12:30PM – 4PM \nCost: $50 Members / $55 Non-members. All materials included. \nJoin us at the Winona Arts Center on March 21\, 2026 from 12:30pm to 4pm for Ukrainian Egg Decorating with Jane Bangsberg. You will create beautiful heirloom eggs using a wax resist method very similar to batik. Students will leave class with finished eggs and all of the supplies needed to decorate more eggs at home.  \nAdult class. No experience necessary.  \nFor more information and to register contact Jen at jsbenson50+WAC@gmail.com.
URL:https://winonaarts.org/event/ukranian-egg-decorating-with-jane-bangsberg/
LOCATION:Winona Arts Center\, 228 East 5th Street\, Winona\, MN\, 55987\, United States
CATEGORIES:Classes
ATTACH;FMTTYPE=image/jpeg:https://winonaarts.org/wp-content/uploads/2026/03/eggs-e1772557026370.jpg
ORGANIZER;CN="Jen Benson":MAILTO:jsbenson50@gmail.com
END:VEVENT
END:VCALENDAR