BEGIN:VCALENDAR
VERSION:2.0
PRODID:-//Winona Arts Center - ECPv6.15.20//NONSGML v1.0//EN
CALSCALE:GREGORIAN
METHOD:PUBLISH
X-WR-CALNAME:Winona Arts Center
X-ORIGINAL-URL:https://winonaarts.org
X-WR-CALDESC:Events for Winona Arts Center
REFRESH-INTERVAL;VALUE=DURATION:PT1H
X-Robots-Tag:noindex
X-PUBLISHED-TTL:PT1H
BEGIN:VTIMEZONE
TZID:UTC
BEGIN:STANDARD
TZOFFSETFROM:+0000
TZOFFSETTO:+0000
TZNAME:UTC
DTSTART:20210101T000000
END:STANDARD
END:VTIMEZONE
BEGIN:VEVENT
DTSTART;TZID=UTC:20220214T180000
DTEND;TZID=UTC:20220214T193000
DTSTAMP:20260419T180014
CREATED:20220201T093448Z
LAST-MODIFIED:20220217T024918Z
UID:552-1644861600-1644867000@winonaarts.org
SUMMARY:Drum Circle
DESCRIPTION:
URL:https://winonaarts.org/event/drum-circle/
LOCATION:Winona Arts Center\, 228 East 5th Street\, Winona\, MN\, 55987\, United States
END:VEVENT
BEGIN:VEVENT
DTSTART;TZID=UTC:20220605T140000
DTEND;TZID=UTC:20220605T140000
DTSTAMP:20260419T180014
CREATED:20220507T010451Z
LAST-MODIFIED:20220507T010451Z
UID:1177-1654437600-1654437600@winonaarts.org
SUMMARY:The Winona Fiddlers
DESCRIPTION:The Winona Fiddlers is excited to perform at the Winona Arts Center. Founded and directed by Betsy Neil in 2020\, The Winona Fiddlers is made up of string instrument students who have a special interest in learning and performing traditional fiddle music from around the world. The ages in the group range from elementary to high school seniors. The group meets once a week throughout the school year\, and they perform at various local events. \nFiddle tunes are mostly taught by ear\, and since the group is multi-age with a large range of ability\, students learn at a variety of levels as they progress. In this year’s concert\, students will be performing Irish\, Scottish\, Cajun\, French Canadian\, Ukrainian\, and Appalachian Old Time Dance Music\, along with a few novelty tunes. We will be joined by guest musicians Maureen Mullen on guitar\, and Adelyn Rosenwinkel on banjo and triangle. We are excited to also be joined by several alumni of the Winona Fiddlers. \nTickets are $8 in advance or $10 at the door. Tickets are available through Eventbrite or Hardts Music\, 115 East 3rd St in Winona. Coffeehouse and gallery open at 1pm.
URL:https://winonaarts.org/event/the-winona-fiddlers/
LOCATION:Winona Arts Center\, 228 East 5th Street\, Winona\, MN\, 55987\, United States
CATEGORIES:Concert
END:VEVENT
BEGIN:VEVENT
DTSTART;TZID=UTC:20220220T130000
DTEND;TZID=UTC:20220220T160000
DTSTAMP:20260419T180014
CREATED:20220217T024537Z
LAST-MODIFIED:20220527T213001Z
UID:697-1645362000-1645372800@winonaarts.org
SUMMARY:Winona Arts Center - Gallery Open
DESCRIPTION:
URL:https://winonaarts.org/event/winona-arts-center-gallery-open-2/
LOCATION:Winona Arts Center\, 228 East 5th Street\, Winona\, MN\, 55987\, United States
CATEGORIES:Exhibits
END:VEVENT
BEGIN:VEVENT
DTSTART;TZID=UTC:20220602T190000
DTEND;TZID=UTC:20220602T190000
DTSTAMP:20260419T180014
CREATED:20220507T010646Z
LAST-MODIFIED:20220507T010646Z
UID:1179-1654196400-1654196400@winonaarts.org
SUMMARY:Mike Munson\, Mike Gangloff & Adam Kiesling
DESCRIPTION:Join us for a very special evening of Mike Munson (slide guitar country blues performer)\, Mike Gangloff (Black Twig Players\, Pelt)\, Adam Kiesling (Corpse Reviver\, Pert Near Sandstone). They will showcase their individual talents while combining their own unique styles together to play a variety of American music. \nMike Munson on slide guitar with his tradition steeped in Mississippi Delta blues combines with Mike Gangloff on fiddle and banjo within an Appalachian style music along with Adam Kiesling on guitar and banjo in his style of string band and country blues. This is a rare event that these 3 talents are together in a concert in a quiet & acoustically great venue. \nTickets are $10 in advance or $15 at the door. Tickets are available through Eventbrite or Hardts Music\, 115 East 3rd St in Winona. Coffeehouse and gallery open at 6pm.
URL:https://winonaarts.org/event/munson-gangloff-kiesling/
LOCATION:Winona Arts Center\, 228 East 5th Street\, Winona\, MN\, 55987\, United States
CATEGORIES:Concert
END:VEVENT
BEGIN:VEVENT
DTSTART;TZID=UTC:20220310T163000
DTEND;TZID=UTC:20220310T200000
DTSTAMP:20260419T180014
CREATED:20220225T015258Z
LAST-MODIFIED:20220225T015342Z
UID:1021-1646929800-1646942400@winonaarts.org
SUMMARY:Open Print Studio with local printmaker Dan Grimslid
DESCRIPTION:Thursdays beginning March 10\, 2022 / 4:30-8:00 pm\n$40 punch card valid for 5 sessions\nBeginning Thursday\, March 10\, 2022\, the Winona Arts Center (WAC) will hold an Open Print Studio with local printmaker Dan Grimslid every Thursday between 4:30 and 8:00 pm. Open Print Studio is designed for those who are interested in printmaking or those that have art projects that they would like to work on. \nWAC has a fully equipped print studio known as Riverbed Press\, complete with a Conrad Etching Press with an approximate 22” x 44” press bed. No previous printmaking experience is necessary. Printmaking supplies (ink\, paper) and equipment will be available. \nIn addition to printmaking\, the Studio will be open for people to work on art projects such as watercolors\, drawing\, etc. Those participants will bring their own art supplies. \nStudio passes are $40 for 5 visits to the studio and can be purchased at the Open Studio. Space will be limited to 12 people per Thursday so please make your reservation ahead of time. For more information and to register\, please contact Jen Benson at jsbenson50@gmail.com.
URL:https://winonaarts.org/event/open-print-studio/
LOCATION:Winona Arts Center\, 228 East 5th Street\, Winona\, MN\, 55987\, United States
CATEGORIES:RiverBed Press
END:VEVENT
BEGIN:VEVENT
DTSTART;TZID=UTC:20220406T150000
DTEND;TZID=UTC:20220406T180000
DTSTAMP:20260419T180014
CREATED:20220329T000602Z
LAST-MODIFIED:20220527T213028Z
UID:1091-1649257200-1649268000@winonaarts.org
SUMMARY:Winona Arts Center - Gallery Open
DESCRIPTION:
URL:https://winonaarts.org/event/winona-arts-center-gallery-open-3/
LOCATION:Winona Arts Center\, 228 East 5th Street\, Winona\, MN\, 55987\, United States
CATEGORIES:Exhibits
END:VEVENT
BEGIN:VEVENT
DTSTART;TZID=UTC:20220216T150000
DTEND;TZID=UTC:20220216T180000
DTSTAMP:20260419T180014
CREATED:20220217T024149Z
LAST-MODIFIED:20220329T000318Z
UID:620-1645023600-1645034400@winonaarts.org
SUMMARY:Winona Arts Center - Gallery Open
DESCRIPTION:
URL:https://winonaarts.org/event/winona-arts-center-gallery-open/
LOCATION:Winona Arts Center\, 228 East 5th Street\, Winona\, MN\, 55987\, United States
CATEGORIES:Exhibits
END:VEVENT
BEGIN:VEVENT
DTSTART;TZID=UTC:20220301T180000
DTEND;TZID=UTC:20220301T200000
DTSTAMP:20260419T180014
CREATED:20220222T031446Z
LAST-MODIFIED:20220222T031446Z
UID:990-1646157600-1646164800@winonaarts.org
SUMMARY:Drawing Circle
DESCRIPTION:
URL:https://winonaarts.org/event/drawing-circle/
LOCATION:Winona Arts Center\, 228 East 5th Street\, Winona\, MN\, 55987\, United States
CATEGORIES:Classes
END:VEVENT
BEGIN:VEVENT
DTSTART;TZID=UTC:20220214T180000
DTEND;TZID=UTC:20220214T193000
DTSTAMP:20260419T180014
CREATED:20220201T093448Z
LAST-MODIFIED:20220217T024918Z
UID:552-1644861600-1644867000@winonaarts.org
SUMMARY:Drum Circle
DESCRIPTION:
URL:https://winonaarts.org/event/drum-circle/
LOCATION:Winona Arts Center\, 228 East 5th Street\, Winona\, MN\, 55987\, United States
END:VEVENT
BEGIN:VEVENT
DTSTART;TZID=UTC:20220220T130000
DTEND;TZID=UTC:20220220T160000
DTSTAMP:20260419T180014
CREATED:20220217T024537Z
LAST-MODIFIED:20220527T213001Z
UID:697-1645362000-1645372800@winonaarts.org
SUMMARY:Winona Arts Center - Gallery Open
DESCRIPTION:
URL:https://winonaarts.org/event/winona-arts-center-gallery-open-2/
LOCATION:Winona Arts Center\, 228 East 5th Street\, Winona\, MN\, 55987\, United States
CATEGORIES:Exhibits
END:VEVENT
BEGIN:VEVENT
DTSTART;TZID=UTC:20220528T130000
DTEND;TZID=UTC:20220528T150000
DTSTAMP:20260419T180014
CREATED:20220503T021848Z
LAST-MODIFIED:20220503T021848Z
UID:1167-1653742800-1653750000@winonaarts.org
SUMMARY:Tile Making Workshop
DESCRIPTION:Richard Spiller\, a local potter from Wisconsin will present a tile making workshop at the Winona Arts Center.  The technique is called “sgraffito (in Italian meaning to scratch) and is a technique produced by applying a drawing to hard red clay pottery piece and then scratching off parts of the layer to create contrasting images and patterns to reveal the clay color underneath. The tile is 8 ‘’ square and a simple design works best for this project. Spiller will fire the tile twice and return it to the participants. Richard Spiller has been a potter and a ceramic artist for 50 years and has taught in Europe\, Finland\, Latvia and Russia as well as universities in the US. He has a home studio in Urne\, Wisconsin. \nTo register for the class email Richard Spiller at spillerart@gmail.com. \nCost: $30 per person. Checks should be payable to the Winona Arts Center and paid prior to the class. Mail to: \nWinona Art Center\n228 E. 5th Street\nWinona MN 55987 \nMasks are required.
URL:https://winonaarts.org/event/tile-making-workshop/
LOCATION:Winona Arts Center\, 228 East 5th Street\, Winona\, MN\, 55987\, United States
CATEGORIES:Classes
END:VEVENT
BEGIN:VEVENT
DTSTART;TZID=UTC:20220310T163000
DTEND;TZID=UTC:20220310T200000
DTSTAMP:20260419T180014
CREATED:20220225T015258Z
LAST-MODIFIED:20220225T015342Z
UID:1021-1646929800-1646942400@winonaarts.org
SUMMARY:Open Print Studio with local printmaker Dan Grimslid
DESCRIPTION:Thursdays beginning March 10\, 2022 / 4:30-8:00 pm\n$40 punch card valid for 5 sessions\nBeginning Thursday\, March 10\, 2022\, the Winona Arts Center (WAC) will hold an Open Print Studio with local printmaker Dan Grimslid every Thursday between 4:30 and 8:00 pm. Open Print Studio is designed for those who are interested in printmaking or those that have art projects that they would like to work on. \nWAC has a fully equipped print studio known as Riverbed Press\, complete with a Conrad Etching Press with an approximate 22” x 44” press bed. No previous printmaking experience is necessary. Printmaking supplies (ink\, paper) and equipment will be available. \nIn addition to printmaking\, the Studio will be open for people to work on art projects such as watercolors\, drawing\, etc. Those participants will bring their own art supplies. \nStudio passes are $40 for 5 visits to the studio and can be purchased at the Open Studio. Space will be limited to 12 people per Thursday so please make your reservation ahead of time. For more information and to register\, please contact Jen Benson at jsbenson50@gmail.com.
URL:https://winonaarts.org/event/open-print-studio/
LOCATION:Winona Arts Center\, 228 East 5th Street\, Winona\, MN\, 55987\, United States
CATEGORIES:RiverBed Press
END:VEVENT
BEGIN:VEVENT
DTSTART;TZID=UTC:20220406T150000
DTEND;TZID=UTC:20220406T180000
DTSTAMP:20260419T180014
CREATED:20220329T000602Z
LAST-MODIFIED:20220527T213028Z
UID:1091-1649257200-1649268000@winonaarts.org
SUMMARY:Winona Arts Center - Gallery Open
DESCRIPTION:
URL:https://winonaarts.org/event/winona-arts-center-gallery-open-3/
LOCATION:Winona Arts Center\, 228 East 5th Street\, Winona\, MN\, 55987\, United States
CATEGORIES:Exhibits
END:VEVENT
BEGIN:VEVENT
DTSTART;TZID=UTC:20220216T150000
DTEND;TZID=UTC:20220216T180000
DTSTAMP:20260419T180014
CREATED:20220217T024149Z
LAST-MODIFIED:20220329T000318Z
UID:620-1645023600-1645034400@winonaarts.org
SUMMARY:Winona Arts Center - Gallery Open
DESCRIPTION:
URL:https://winonaarts.org/event/winona-arts-center-gallery-open/
LOCATION:Winona Arts Center\, 228 East 5th Street\, Winona\, MN\, 55987\, United States
CATEGORIES:Exhibits
END:VEVENT
BEGIN:VEVENT
DTSTART;TZID=UTC:20220301T180000
DTEND;TZID=UTC:20220301T200000
DTSTAMP:20260419T180014
CREATED:20220222T031446Z
LAST-MODIFIED:20220222T031446Z
UID:990-1646157600-1646164800@winonaarts.org
SUMMARY:Drawing Circle
DESCRIPTION:
URL:https://winonaarts.org/event/drawing-circle/
LOCATION:Winona Arts Center\, 228 East 5th Street\, Winona\, MN\, 55987\, United States
CATEGORIES:Classes
END:VEVENT
BEGIN:VEVENT
DTSTART;TZID=UTC:20220214T180000
DTEND;TZID=UTC:20220214T193000
DTSTAMP:20260419T180014
CREATED:20220201T093448Z
LAST-MODIFIED:20220217T024918Z
UID:552-1644861600-1644867000@winonaarts.org
SUMMARY:Drum Circle
DESCRIPTION:
URL:https://winonaarts.org/event/drum-circle/
LOCATION:Winona Arts Center\, 228 East 5th Street\, Winona\, MN\, 55987\, United States
END:VEVENT
BEGIN:VEVENT
DTSTART;TZID=UTC:20220220T130000
DTEND;TZID=UTC:20220220T160000
DTSTAMP:20260419T180014
CREATED:20220217T024537Z
LAST-MODIFIED:20220527T213001Z
UID:697-1645362000-1645372800@winonaarts.org
SUMMARY:Winona Arts Center - Gallery Open
DESCRIPTION:
URL:https://winonaarts.org/event/winona-arts-center-gallery-open-2/
LOCATION:Winona Arts Center\, 228 East 5th Street\, Winona\, MN\, 55987\, United States
CATEGORIES:Exhibits
END:VEVENT
BEGIN:VEVENT
DTSTART;TZID=UTC:20220521T140000
DTEND;TZID=UTC:20220521T160000
DTSTAMP:20260419T180014
CREATED:20220503T013043Z
LAST-MODIFIED:20220503T013043Z
UID:1160-1653141600-1653148800@winonaarts.org
SUMMARY:Welcome Afghans
DESCRIPTION:Please join us as we welcome Afghan newcomers to our community. The event will feature two film screenings\, a presentation from Sajida Mirzada\, an international student from Afghanistan\, and members of the Winona Afghan Support Network (WASN) speaking about their experiences with resettling refugees. The event will wrap up with sharing of Afghan foods. \nVisit winonaarts.org/special-events/ for complete details.
URL:https://winonaarts.org/event/welcome-afghans/
LOCATION:Winona Arts Center\, 228 East 5th Street\, Winona\, MN\, 55987\, United States
CATEGORIES:Events
END:VEVENT
BEGIN:VEVENT
DTSTART;TZID=UTC:20220310T163000
DTEND;TZID=UTC:20220310T200000
DTSTAMP:20260419T180014
CREATED:20220225T015258Z
LAST-MODIFIED:20220225T015342Z
UID:1021-1646929800-1646942400@winonaarts.org
SUMMARY:Open Print Studio with local printmaker Dan Grimslid
DESCRIPTION:Thursdays beginning March 10\, 2022 / 4:30-8:00 pm\n$40 punch card valid for 5 sessions\nBeginning Thursday\, March 10\, 2022\, the Winona Arts Center (WAC) will hold an Open Print Studio with local printmaker Dan Grimslid every Thursday between 4:30 and 8:00 pm. Open Print Studio is designed for those who are interested in printmaking or those that have art projects that they would like to work on. \nWAC has a fully equipped print studio known as Riverbed Press\, complete with a Conrad Etching Press with an approximate 22” x 44” press bed. No previous printmaking experience is necessary. Printmaking supplies (ink\, paper) and equipment will be available. \nIn addition to printmaking\, the Studio will be open for people to work on art projects such as watercolors\, drawing\, etc. Those participants will bring their own art supplies. \nStudio passes are $40 for 5 visits to the studio and can be purchased at the Open Studio. Space will be limited to 12 people per Thursday so please make your reservation ahead of time. For more information and to register\, please contact Jen Benson at jsbenson50@gmail.com.
URL:https://winonaarts.org/event/open-print-studio/
LOCATION:Winona Arts Center\, 228 East 5th Street\, Winona\, MN\, 55987\, United States
CATEGORIES:RiverBed Press
END:VEVENT
BEGIN:VEVENT
DTSTART;TZID=UTC:20220406T150000
DTEND;TZID=UTC:20220406T180000
DTSTAMP:20260419T180014
CREATED:20220329T000602Z
LAST-MODIFIED:20220527T213028Z
UID:1091-1649257200-1649268000@winonaarts.org
SUMMARY:Winona Arts Center - Gallery Open
DESCRIPTION:
URL:https://winonaarts.org/event/winona-arts-center-gallery-open-3/
LOCATION:Winona Arts Center\, 228 East 5th Street\, Winona\, MN\, 55987\, United States
CATEGORIES:Exhibits
END:VEVENT
BEGIN:VEVENT
DTSTART;TZID=UTC:20220216T150000
DTEND;TZID=UTC:20220216T180000
DTSTAMP:20260419T180014
CREATED:20220217T024149Z
LAST-MODIFIED:20220329T000318Z
UID:620-1645023600-1645034400@winonaarts.org
SUMMARY:Winona Arts Center - Gallery Open
DESCRIPTION:
URL:https://winonaarts.org/event/winona-arts-center-gallery-open/
LOCATION:Winona Arts Center\, 228 East 5th Street\, Winona\, MN\, 55987\, United States
CATEGORIES:Exhibits
END:VEVENT
BEGIN:VEVENT
DTSTART;TZID=UTC:20220301T180000
DTEND;TZID=UTC:20220301T200000
DTSTAMP:20260419T180014
CREATED:20220222T031446Z
LAST-MODIFIED:20220222T031446Z
UID:990-1646157600-1646164800@winonaarts.org
SUMMARY:Drawing Circle
DESCRIPTION:
URL:https://winonaarts.org/event/drawing-circle/
LOCATION:Winona Arts Center\, 228 East 5th Street\, Winona\, MN\, 55987\, United States
CATEGORIES:Classes
END:VEVENT
BEGIN:VEVENT
DTSTART;TZID=UTC:20220214T180000
DTEND;TZID=UTC:20220214T193000
DTSTAMP:20260419T180014
CREATED:20220201T093448Z
LAST-MODIFIED:20220217T024918Z
UID:552-1644861600-1644867000@winonaarts.org
SUMMARY:Drum Circle
DESCRIPTION:
URL:https://winonaarts.org/event/drum-circle/
LOCATION:Winona Arts Center\, 228 East 5th Street\, Winona\, MN\, 55987\, United States
END:VEVENT
BEGIN:VEVENT
DTSTART;TZID=UTC:20220220T130000
DTEND;TZID=UTC:20220220T160000
DTSTAMP:20260419T180014
CREATED:20220217T024537Z
LAST-MODIFIED:20220527T213001Z
UID:697-1645362000-1645372800@winonaarts.org
SUMMARY:Winona Arts Center - Gallery Open
DESCRIPTION:
URL:https://winonaarts.org/event/winona-arts-center-gallery-open-2/
LOCATION:Winona Arts Center\, 228 East 5th Street\, Winona\, MN\, 55987\, United States
CATEGORIES:Exhibits
END:VEVENT
BEGIN:VEVENT
DTSTART;TZID=UTC:20220514T130000
DTEND;TZID=UTC:20220514T160000
DTSTAMP:20260419T180014
CREATED:20220503T020004Z
LAST-MODIFIED:20220503T020004Z
UID:1165-1652533200-1652544000@winonaarts.org
SUMMARY:Watercolor Class with Faye Schoen
DESCRIPTION:Blue Floral\nSaturday / May 14 / 1:00-4:00pm \nWe poise our brushes to create the colors of spring and summer. This step-by-step class will include a very loose free-flowing style that is fun and easy to learn. The class fee is $40 which includes instruction\, materials\, coffee or tea and a light snack. Faye says that one of the best things about these classes is the fellowship\, fun and smiles. \nTo reserve your spot please email Faye at Fschoen300@gmail.com. \nPrepayment is preferred. To guarantee your place\, mail the $40 registration fee to: \nWinona Art Center\n228 E. 5th Street\nWinona MN 55987 \nMasks are required.
URL:https://winonaarts.org/event/watercolor-class-with-faye-schoen/
LOCATION:Winona Arts Center\, 228 East 5th Street\, Winona\, MN\, 55987\, United States
CATEGORIES:Classes
END:VEVENT
BEGIN:VEVENT
DTSTART;TZID=UTC:20220310T163000
DTEND;TZID=UTC:20220310T200000
DTSTAMP:20260419T180014
CREATED:20220225T015258Z
LAST-MODIFIED:20220225T015342Z
UID:1021-1646929800-1646942400@winonaarts.org
SUMMARY:Open Print Studio with local printmaker Dan Grimslid
DESCRIPTION:Thursdays beginning March 10\, 2022 / 4:30-8:00 pm\n$40 punch card valid for 5 sessions\nBeginning Thursday\, March 10\, 2022\, the Winona Arts Center (WAC) will hold an Open Print Studio with local printmaker Dan Grimslid every Thursday between 4:30 and 8:00 pm. Open Print Studio is designed for those who are interested in printmaking or those that have art projects that they would like to work on. \nWAC has a fully equipped print studio known as Riverbed Press\, complete with a Conrad Etching Press with an approximate 22” x 44” press bed. No previous printmaking experience is necessary. Printmaking supplies (ink\, paper) and equipment will be available. \nIn addition to printmaking\, the Studio will be open for people to work on art projects such as watercolors\, drawing\, etc. Those participants will bring their own art supplies. \nStudio passes are $40 for 5 visits to the studio and can be purchased at the Open Studio. Space will be limited to 12 people per Thursday so please make your reservation ahead of time. For more information and to register\, please contact Jen Benson at jsbenson50@gmail.com.
URL:https://winonaarts.org/event/open-print-studio/
LOCATION:Winona Arts Center\, 228 East 5th Street\, Winona\, MN\, 55987\, United States
CATEGORIES:RiverBed Press
END:VEVENT
BEGIN:VEVENT
DTSTART;TZID=UTC:20220406T150000
DTEND;TZID=UTC:20220406T180000
DTSTAMP:20260419T180014
CREATED:20220329T000602Z
LAST-MODIFIED:20220527T213028Z
UID:1091-1649257200-1649268000@winonaarts.org
SUMMARY:Winona Arts Center - Gallery Open
DESCRIPTION:
URL:https://winonaarts.org/event/winona-arts-center-gallery-open-3/
LOCATION:Winona Arts Center\, 228 East 5th Street\, Winona\, MN\, 55987\, United States
CATEGORIES:Exhibits
END:VEVENT
BEGIN:VEVENT
DTSTART;TZID=UTC:20220216T150000
DTEND;TZID=UTC:20220216T180000
DTSTAMP:20260419T180014
CREATED:20220217T024149Z
LAST-MODIFIED:20220329T000318Z
UID:620-1645023600-1645034400@winonaarts.org
SUMMARY:Winona Arts Center - Gallery Open
DESCRIPTION:
URL:https://winonaarts.org/event/winona-arts-center-gallery-open/
LOCATION:Winona Arts Center\, 228 East 5th Street\, Winona\, MN\, 55987\, United States
CATEGORIES:Exhibits
END:VEVENT
BEGIN:VEVENT
DTSTART;TZID=UTC:20220301T180000
DTEND;TZID=UTC:20220301T200000
DTSTAMP:20260419T180014
CREATED:20220222T031446Z
LAST-MODIFIED:20220222T031446Z
UID:990-1646157600-1646164800@winonaarts.org
SUMMARY:Drawing Circle
DESCRIPTION:
URL:https://winonaarts.org/event/drawing-circle/
LOCATION:Winona Arts Center\, 228 East 5th Street\, Winona\, MN\, 55987\, United States
CATEGORIES:Classes
END:VEVENT
BEGIN:VEVENT
DTSTART;TZID=UTC:20220214T180000
DTEND;TZID=UTC:20220214T193000
DTSTAMP:20260419T180014
CREATED:20220201T093448Z
LAST-MODIFIED:20220217T024918Z
UID:552-1644861600-1644867000@winonaarts.org
SUMMARY:Drum Circle
DESCRIPTION:
URL:https://winonaarts.org/event/drum-circle/
LOCATION:Winona Arts Center\, 228 East 5th Street\, Winona\, MN\, 55987\, United States
END:VEVENT
END:VCALENDAR