BEGIN:VCALENDAR
VERSION:2.0
PRODID:-//Winona Arts Center - ECPv6.15.20//NONSGML v1.0//EN
CALSCALE:GREGORIAN
METHOD:PUBLISH
X-ORIGINAL-URL:https://winonaarts.org
X-WR-CALDESC:Events for Winona Arts Center
REFRESH-INTERVAL;VALUE=DURATION:PT1H
X-Robots-Tag:noindex
X-PUBLISHED-TTL:PT1H
BEGIN:VTIMEZONE
TZID:UTC
BEGIN:STANDARD
TZOFFSETFROM:+0000
TZOFFSETTO:+0000
TZNAME:UTC
DTSTART:20230101T000000
END:STANDARD
END:VTIMEZONE
BEGIN:VTIMEZONE
TZID:America/Chicago
BEGIN:DAYLIGHT
TZOFFSETFROM:-0600
TZOFFSETTO:-0500
TZNAME:CDT
DTSTART:20240310T080000
END:DAYLIGHT
BEGIN:STANDARD
TZOFFSETFROM:-0500
TZOFFSETTO:-0600
TZNAME:CST
DTSTART:20241103T070000
END:STANDARD
BEGIN:DAYLIGHT
TZOFFSETFROM:-0600
TZOFFSETTO:-0500
TZNAME:CDT
DTSTART:20250309T080000
END:DAYLIGHT
BEGIN:STANDARD
TZOFFSETFROM:-0500
TZOFFSETTO:-0600
TZNAME:CST
DTSTART:20251102T070000
END:STANDARD
BEGIN:DAYLIGHT
TZOFFSETFROM:-0600
TZOFFSETTO:-0500
TZNAME:CDT
DTSTART:20260308T080000
END:DAYLIGHT
BEGIN:STANDARD
TZOFFSETFROM:-0500
TZOFFSETTO:-0600
TZNAME:CST
DTSTART:20261101T070000
END:STANDARD
END:VTIMEZONE
BEGIN:VEVENT
DTSTART;TZID=UTC:20241107T163000
DTEND;TZID=UTC:20241107T200000
DTSTAMP:20260422T180253
CREATED:20240821T092832Z
LAST-MODIFIED:20240821T092832Z
UID:3521-1730997000-1731009600@winonaarts.org
SUMMARY:Open Studio
DESCRIPTION:
URL:https://winonaarts.org/event/open-studio-28/
LOCATION:Winona Arts Center\, 228 East 5th Street\, Winona\, MN\, 55987\, United States
CATEGORIES:Open Studio
END:VEVENT
BEGIN:VEVENT
DTSTART;TZID=UTC:20241114T163000
DTEND;TZID=UTC:20241114T200000
DTSTAMP:20260422T180253
CREATED:20240821T092906Z
LAST-MODIFIED:20240821T092906Z
UID:3523-1731601800-1731614400@winonaarts.org
SUMMARY:Open Studio
DESCRIPTION:
URL:https://winonaarts.org/event/open-studio-29/
LOCATION:Winona Arts Center\, 228 East 5th Street\, Winona\, MN\, 55987\, United States
CATEGORIES:Open Studio
END:VEVENT
BEGIN:VEVENT
DTSTART;TZID=UTC:20241121T163000
DTEND;TZID=UTC:20241121T200000
DTSTAMP:20260422T180253
CREATED:20240821T092941Z
LAST-MODIFIED:20240821T092941Z
UID:3525-1732206600-1732219200@winonaarts.org
SUMMARY:Open Studio
DESCRIPTION:
URL:https://winonaarts.org/event/open-studio-30/
LOCATION:Winona Arts Center\, 228 East 5th Street\, Winona\, MN\, 55987\, United States
CATEGORIES:Open Studio
END:VEVENT
BEGIN:VEVENT
DTSTART;TZID=UTC:20241205T163000
DTEND;TZID=UTC:20241205T200000
DTSTAMP:20260422T180253
CREATED:20240821T093024Z
LAST-MODIFIED:20240821T093038Z
UID:3527-1733416200-1733428800@winonaarts.org
SUMMARY:Open Studio
DESCRIPTION:
URL:https://winonaarts.org/event/open-studio-31/
LOCATION:Winona Arts Center\, 228 East 5th Street\, Winona\, MN\, 55987\, United States
CATEGORIES:Open Studio
END:VEVENT
BEGIN:VEVENT
DTSTART;TZID=UTC:20241212T163000
DTEND;TZID=UTC:20241212T200000
DTSTAMP:20260422T180253
CREATED:20240821T093117Z
LAST-MODIFIED:20240821T093117Z
UID:3529-1734021000-1734033600@winonaarts.org
SUMMARY:Open Studio
DESCRIPTION:
URL:https://winonaarts.org/event/open-studio-32/
LOCATION:Winona Arts Center\, 228 East 5th Street\, Winona\, MN\, 55987\, United States
CATEGORIES:Open Studio
END:VEVENT
BEGIN:VEVENT
DTSTART;TZID=UTC:20241219T163000
DTEND;TZID=UTC:20241219T200000
DTSTAMP:20260422T180253
CREATED:20240821T093206Z
LAST-MODIFIED:20240821T093206Z
UID:3531-1734625800-1734638400@winonaarts.org
SUMMARY:Open Studio
DESCRIPTION:
URL:https://winonaarts.org/event/open-studio-33/
LOCATION:Winona Arts Center\, 228 East 5th Street\, Winona\, MN\, 55987\, United States
CATEGORIES:Open Studio
END:VEVENT
BEGIN:VEVENT
DTSTART;TZID=America/Chicago:20250102T163000
DTEND;TZID=America/Chicago:20250102T200000
DTSTAMP:20260422T180253
CREATED:20241226T061129Z
LAST-MODIFIED:20241226T061129Z
UID:3953-1735835400-1735848000@winonaarts.org
SUMMARY:Open Studio
DESCRIPTION:
URL:https://winonaarts.org/event/open-studio-19/
LOCATION:Winona Arts Center\, 228 East 5th Street\, Winona\, MN\, 55987\, United States
CATEGORIES:Open Studio,RiverBed Press
ORGANIZER;CN="Jen Benson":MAILTO:jsbenson50@gmail.com
END:VEVENT
BEGIN:VEVENT
DTSTART;TZID=America/Chicago:20250109T163000
DTEND;TZID=America/Chicago:20250109T200000
DTSTAMP:20260422T180253
CREATED:20241226T061230Z
LAST-MODIFIED:20241226T061230Z
UID:3955-1736440200-1736452800@winonaarts.org
SUMMARY:Open Studio
DESCRIPTION:
URL:https://winonaarts.org/event/open-studio-34/
LOCATION:Winona Arts Center\, 228 East 5th Street\, Winona\, MN\, 55987\, United States
CATEGORIES:Open Studio,RiverBed Press
ORGANIZER;CN="Jen Benson":MAILTO:jsbenson50@gmail.com
END:VEVENT
BEGIN:VEVENT
DTSTART;TZID=America/Chicago:20250116T163000
DTEND;TZID=America/Chicago:20250116T200000
DTSTAMP:20260422T180253
CREATED:20241226T061425Z
LAST-MODIFIED:20241226T061425Z
UID:3961-1737045000-1737057600@winonaarts.org
SUMMARY:Open Studio
DESCRIPTION:
URL:https://winonaarts.org/event/open-studio-37/
LOCATION:Winona Arts Center\, 228 East 5th Street\, Winona\, MN\, 55987\, United States
CATEGORIES:Open Studio,RiverBed Press
ORGANIZER;CN="Jen Benson":MAILTO:jsbenson50@gmail.com
END:VEVENT
BEGIN:VEVENT
DTSTART;TZID=America/Chicago:20250123T163000
DTEND;TZID=America/Chicago:20250123T200000
DTSTAMP:20260422T180253
CREATED:20241226T061303Z
LAST-MODIFIED:20241226T061303Z
UID:3957-1737649800-1737662400@winonaarts.org
SUMMARY:Open Studio
DESCRIPTION:
URL:https://winonaarts.org/event/open-studio-35/
LOCATION:Winona Arts Center\, 228 East 5th Street\, Winona\, MN\, 55987\, United States
CATEGORIES:Open Studio,RiverBed Press
ORGANIZER;CN="Jen Benson":MAILTO:jsbenson50@gmail.com
END:VEVENT
BEGIN:VEVENT
DTSTART;TZID=America/Chicago:20250130T163000
DTEND;TZID=America/Chicago:20250130T200000
DTSTAMP:20260422T180253
CREATED:20241226T061344Z
LAST-MODIFIED:20241226T061344Z
UID:3959-1738254600-1738267200@winonaarts.org
SUMMARY:Open Studio
DESCRIPTION:
URL:https://winonaarts.org/event/open-studio-36/
LOCATION:Winona Arts Center\, 228 East 5th Street\, Winona\, MN\, 55987\, United States
CATEGORIES:Open Studio,RiverBed Press
ORGANIZER;CN="Jen Benson":MAILTO:jsbenson50@gmail.com
END:VEVENT
BEGIN:VEVENT
DTSTART;TZID=America/Chicago:20250206T163000
DTEND;TZID=America/Chicago:20250206T200000
DTSTAMP:20260422T180253
CREATED:20241226T061522Z
LAST-MODIFIED:20241226T061522Z
UID:3963-1738859400-1738872000@winonaarts.org
SUMMARY:Open Studio
DESCRIPTION:
URL:https://winonaarts.org/event/open-studio-38/
LOCATION:Winona Arts Center\, 228 East 5th Street\, Winona\, MN\, 55987\, United States
CATEGORIES:Open Studio,RiverBed Press
ORGANIZER;CN="Jen Benson":MAILTO:jsbenson50@gmail.com
END:VEVENT
BEGIN:VEVENT
DTSTART;TZID=America/Chicago:20250213T163000
DTEND;TZID=America/Chicago:20250213T200000
DTSTAMP:20260422T180253
CREATED:20241226T061554Z
LAST-MODIFIED:20241226T061554Z
UID:3965-1739464200-1739476800@winonaarts.org
SUMMARY:Open Studio
DESCRIPTION:
URL:https://winonaarts.org/event/open-studio-39/
LOCATION:Winona Arts Center\, 228 East 5th Street\, Winona\, MN\, 55987\, United States
CATEGORIES:Open Studio,RiverBed Press
ORGANIZER;CN="Jen Benson":MAILTO:jsbenson50@gmail.com
END:VEVENT
BEGIN:VEVENT
DTSTART;TZID=America/Chicago:20250220T163000
DTEND;TZID=America/Chicago:20250220T200000
DTSTAMP:20260422T180253
CREATED:20241226T061639Z
LAST-MODIFIED:20241226T061639Z
UID:3967-1740069000-1740081600@winonaarts.org
SUMMARY:Open Studio
DESCRIPTION:
URL:https://winonaarts.org/event/open-studio-40/
LOCATION:Winona Arts Center\, 228 East 5th Street\, Winona\, MN\, 55987\, United States
CATEGORIES:Open Studio,RiverBed Press
ORGANIZER;CN="Jen Benson":MAILTO:jsbenson50@gmail.com
END:VEVENT
BEGIN:VEVENT
DTSTART;TZID=America/Chicago:20250227T163000
DTEND;TZID=America/Chicago:20250227T200000
DTSTAMP:20260422T180253
CREATED:20241226T061751Z
LAST-MODIFIED:20241226T061751Z
UID:3969-1740673800-1740686400@winonaarts.org
SUMMARY:Open Studio
DESCRIPTION:
URL:https://winonaarts.org/event/open-studio-41/
LOCATION:Winona Arts Center\, 228 East 5th Street\, Winona\, MN\, 55987\, United States
CATEGORIES:Open Studio,RiverBed Press
ORGANIZER;CN="Jen Benson":MAILTO:jsbenson50@gmail.com
END:VEVENT
BEGIN:VEVENT
DTSTART;TZID=America/Chicago:20250306T163000
DTEND;TZID=America/Chicago:20250306T200000
DTSTAMP:20260422T180253
CREATED:20241226T061828Z
LAST-MODIFIED:20241226T061828Z
UID:3971-1741278600-1741291200@winonaarts.org
SUMMARY:Open Studio
DESCRIPTION:
URL:https://winonaarts.org/event/open-studio-42/
LOCATION:Winona Arts Center\, 228 East 5th Street\, Winona\, MN\, 55987\, United States
CATEGORIES:Open Studio,RiverBed Press
ORGANIZER;CN="Jen Benson":MAILTO:jsbenson50@gmail.com
END:VEVENT
BEGIN:VEVENT
DTSTART;TZID=America/Chicago:20250313T163000
DTEND;TZID=America/Chicago:20250313T200000
DTSTAMP:20260422T180253
CREATED:20241226T061901Z
LAST-MODIFIED:20241226T061901Z
UID:3973-1741883400-1741896000@winonaarts.org
SUMMARY:Open Studio
DESCRIPTION:
URL:https://winonaarts.org/event/open-studio-43/
LOCATION:Winona Arts Center\, 228 East 5th Street\, Winona\, MN\, 55987\, United States
CATEGORIES:Open Studio,RiverBed Press
ORGANIZER;CN="Jen Benson":MAILTO:jsbenson50@gmail.com
END:VEVENT
BEGIN:VEVENT
DTSTART;TZID=America/Chicago:20250320T163000
DTEND;TZID=America/Chicago:20250320T200000
DTSTAMP:20260422T180253
CREATED:20241226T061952Z
LAST-MODIFIED:20241226T061952Z
UID:3975-1742488200-1742500800@winonaarts.org
SUMMARY:Open Studio
DESCRIPTION:
URL:https://winonaarts.org/event/open-studio-44/
LOCATION:Winona Arts Center\, 228 East 5th Street\, Winona\, MN\, 55987\, United States
CATEGORIES:Open Studio,RiverBed Press
ORGANIZER;CN="Jen Benson":MAILTO:jsbenson50@gmail.com
END:VEVENT
BEGIN:VEVENT
DTSTART;TZID=America/Chicago:20250327T163000
DTEND;TZID=America/Chicago:20250327T200000
DTSTAMP:20260422T180253
CREATED:20241226T062024Z
LAST-MODIFIED:20241226T062024Z
UID:3977-1743093000-1743105600@winonaarts.org
SUMMARY:Open Studio
DESCRIPTION:
URL:https://winonaarts.org/event/open-studio-45/
LOCATION:Winona Arts Center\, 228 East 5th Street\, Winona\, MN\, 55987\, United States
CATEGORIES:Open Studio,RiverBed Press
ORGANIZER;CN="Jen Benson":MAILTO:jsbenson50@gmail.com
END:VEVENT
BEGIN:VEVENT
DTSTART;TZID=America/Chicago:20250403T163000
DTEND;TZID=America/Chicago:20250403T200000
DTSTAMP:20260422T180253
CREATED:20241226T062057Z
LAST-MODIFIED:20241226T062057Z
UID:3979-1743697800-1743710400@winonaarts.org
SUMMARY:Open Studio
DESCRIPTION:
URL:https://winonaarts.org/event/open-studio-46/
LOCATION:Winona Arts Center\, 228 East 5th Street\, Winona\, MN\, 55987\, United States
CATEGORIES:Open Studio,RiverBed Press
ORGANIZER;CN="Jen Benson":MAILTO:jsbenson50@gmail.com
END:VEVENT
BEGIN:VEVENT
DTSTART;TZID=America/Chicago:20250612T163000
DTEND;TZID=America/Chicago:20250612T200000
DTSTAMP:20260422T180253
CREATED:20250514T191628Z
LAST-MODIFIED:20250514T191628Z
UID:4365-1749745800-1749758400@winonaarts.org
SUMMARY:Studio Spotlight: Dos and Don'ts of Linocut Printmaking with Fran Goodin
DESCRIPTION:Join us for our 2nd Quarter Spotlight with Fran Goodin on June 12 from 4:30 to 8:00! She will provide a demonstration of the Do’s and Don’ts of Linocut Printmaking. After the demonstration you will carve a design of your choice and create prints from your carving.\n\nClass cost is $10. All supplies are provided.\n\nClass size is limited so reserve your spot and Register today! Contact Jen at jsbenson50@gmail.com.
URL:https://winonaarts.org/event/studio-spotlight-dos-and-donts-of-linocut-printmaking-with-fran-goodin/
LOCATION:Winona Arts Center\, 228 East 5th Street\, Winona\, MN\, 55987\, United States
CATEGORIES:Classes,Open Studio,RiverBed Press
ATTACH;FMTTYPE=image/png:https://winonaarts.org/wp-content/uploads/2025/05/DosDonts-of-Linocut-Printmaking.png
END:VEVENT
BEGIN:VEVENT
DTSTART;TZID=America/Chicago:20250807T163000
DTEND;TZID=America/Chicago:20250807T200000
DTSTAMP:20260422T180253
CREATED:20250726T000745Z
LAST-MODIFIED:20250726T000745Z
UID:4521-1754584200-1754596800@winonaarts.org
SUMMARY:Open Studio
DESCRIPTION:
URL:https://winonaarts.org/event/open-studio-47/
LOCATION:Winona Arts Center\, 228 East 5th Street\, Winona\, MN\, 55987\, United States
CATEGORIES:Open Studio,RiverBed Press
ORGANIZER;CN="Jen Benson":MAILTO:jsbenson50@gmail.com
END:VEVENT
BEGIN:VEVENT
DTSTART;TZID=America/Chicago:20250814T163000
DTEND;TZID=America/Chicago:20250814T200000
DTSTAMP:20260422T180253
CREATED:20250726T000819Z
LAST-MODIFIED:20250726T000819Z
UID:4523-1755189000-1755201600@winonaarts.org
SUMMARY:Open Studio
DESCRIPTION:
URL:https://winonaarts.org/event/open-studio-48/
LOCATION:Winona Arts Center\, 228 East 5th Street\, Winona\, MN\, 55987\, United States
CATEGORIES:Open Studio,RiverBed Press
ORGANIZER;CN="Jen Benson":MAILTO:jsbenson50@gmail.com
END:VEVENT
BEGIN:VEVENT
DTSTART;TZID=America/Chicago:20250821T163000
DTEND;TZID=America/Chicago:20250821T200000
DTSTAMP:20260422T180253
CREATED:20250726T000853Z
LAST-MODIFIED:20250726T000853Z
UID:4525-1755793800-1755806400@winonaarts.org
SUMMARY:Open Studio
DESCRIPTION:
URL:https://winonaarts.org/event/open-studio-49/
LOCATION:Winona Arts Center\, 228 East 5th Street\, Winona\, MN\, 55987\, United States
CATEGORIES:Open Studio,RiverBed Press
ORGANIZER;CN="Jen Benson":MAILTO:jsbenson50@gmail.com
END:VEVENT
BEGIN:VEVENT
DTSTART;TZID=America/Chicago:20250828T163000
DTEND;TZID=America/Chicago:20250828T200000
DTSTAMP:20260422T180253
CREATED:20250726T000925Z
LAST-MODIFIED:20250726T000925Z
UID:4527-1756398600-1756411200@winonaarts.org
SUMMARY:Open Studio
DESCRIPTION:
URL:https://winonaarts.org/event/open-studio-50/
LOCATION:Winona Arts Center\, 228 East 5th Street\, Winona\, MN\, 55987\, United States
CATEGORIES:Open Studio,RiverBed Press
ORGANIZER;CN="Jen Benson":MAILTO:jsbenson50@gmail.com
END:VEVENT
BEGIN:VEVENT
DTSTART;TZID=America/Chicago:20250904T163000
DTEND;TZID=America/Chicago:20250904T200000
DTSTAMP:20260422T180253
CREATED:20250726T000959Z
LAST-MODIFIED:20250930T183628Z
UID:4529-1757003400-1757016000@winonaarts.org
SUMMARY:Open Studio
DESCRIPTION:Beginning October 2025 Open Studio will be held the 1st & 3rd Thursdays of the month from 4:30pm – 8:00pm!\n\n\n\nThe Open Studio is designed for those who are interested in printmaking and for those who need space to work on their own art projects. Your first visit is free of charge!\n\n\n\nAfter Your First Visit:\no Drop-in Fee: $8 per visit\no Studio Pass: $35 for 5 visits\no No fee for participants who bring their own art supplies\n\n\n\nSpace will be limited to 12 people per Thursday so please make your reservation ahead of time.\n\n\n\nFor more information and to register please contact Jen at jsbenson@gmail.com
URL:https://winonaarts.org/event/open-studio-51/
LOCATION:Winona Arts Center\, 228 East 5th Street\, Winona\, MN\, 55987\, United States
CATEGORIES:Open Studio,RiverBed Press
ATTACH;FMTTYPE=image/png:https://winonaarts.org/wp-content/uploads/2025/09/Open-Studio-scaled-e1772560990668.png
ORGANIZER;CN="Jen Benson":MAILTO:jsbenson50@gmail.com
END:VEVENT
BEGIN:VEVENT
DTSTART;TZID=America/Chicago:20250911T163000
DTEND;TZID=America/Chicago:20250911T200000
DTSTAMP:20260422T180253
CREATED:20250726T001039Z
LAST-MODIFIED:20250726T001039Z
UID:4531-1757608200-1757620800@winonaarts.org
SUMMARY:Open Studio
DESCRIPTION:
URL:https://winonaarts.org/event/open-studio-52/
LOCATION:Winona Arts Center\, 228 East 5th Street\, Winona\, MN\, 55987\, United States
CATEGORIES:Open Studio,RiverBed Press
ORGANIZER;CN="Jen Benson":MAILTO:jsbenson50@gmail.com
END:VEVENT
BEGIN:VEVENT
DTSTART;TZID=America/Chicago:20250918T163000
DTEND;TZID=America/Chicago:20250918T200000
DTSTAMP:20260422T180253
CREATED:20250726T001201Z
LAST-MODIFIED:20250726T001201Z
UID:4535-1758213000-1758225600@winonaarts.org
SUMMARY:Open Studio
DESCRIPTION:
URL:https://winonaarts.org/event/open-studio-54/
LOCATION:Winona Arts Center\, 228 East 5th Street\, Winona\, MN\, 55987\, United States
CATEGORIES:Open Studio,RiverBed Press
ORGANIZER;CN="Jen Benson":MAILTO:jsbenson50@gmail.com
END:VEVENT
BEGIN:VEVENT
DTSTART;TZID=America/Chicago:20250925T163000
DTEND;TZID=America/Chicago:20250925T200000
DTSTAMP:20260422T180253
CREATED:20250726T001115Z
LAST-MODIFIED:20250922T024438Z
UID:4533-1758817800-1758830400@winonaarts.org
SUMMARY:Open Studio is cancelled due to a class
DESCRIPTION:
URL:https://winonaarts.org/event/open-studio-53/
LOCATION:Winona Arts Center\, 228 East 5th Street\, Winona\, MN\, 55987\, United States
CATEGORIES:Open Studio,RiverBed Press
ORGANIZER;CN="Jen Benson":MAILTO:jsbenson50@gmail.com
END:VEVENT
BEGIN:VEVENT
DTSTART;TZID=America/Chicago:20251002T163000
DTEND;TZID=America/Chicago:20251002T200000
DTSTAMP:20260422T180253
CREATED:20250726T001234Z
LAST-MODIFIED:20250930T184014Z
UID:4537-1759422600-1759435200@winonaarts.org
SUMMARY:Open Studio
DESCRIPTION:Beginning October 2025 Open Studio will be held the 1st & 3rd Thursdays of the month from 4:30pm – 8:00pm!\n\n\n\nThe Open Studio is designed for those who are interested in printmaking and for those who need space to work on their own art projects. Your first visit is free of charge!\n\n\n\nAfter Your First Visit:\no Drop-in Fee: $8 per visit\no Studio Pass: $35 for 5 visits\no No fee for participants who bring their own art supplies\n\n\n\nSpace will be limited to 12 people per Thursday so please make your reservation ahead of time.\n\n\n\nFor more information and to register please contact Jen at jsbenson@gmail.com
URL:https://winonaarts.org/event/open-studio-55/
LOCATION:Winona Arts Center\, 228 East 5th Street\, Winona\, MN\, 55987\, United States
CATEGORIES:Open Studio,RiverBed Press
ATTACH;FMTTYPE=image/png:https://winonaarts.org/wp-content/uploads/2025/09/Open-Studio-scaled-e1772560990668.png
ORGANIZER;CN="Jen Benson":MAILTO:jsbenson50@gmail.com
END:VEVENT
END:VCALENDAR