BEGIN:VCALENDAR
VERSION:2.0
PRODID:-//Winona Arts Center - ECPv6.15.20//NONSGML v1.0//EN
CALSCALE:GREGORIAN
METHOD:PUBLISH
X-ORIGINAL-URL:https://winonaarts.org
X-WR-CALDESC:Events for Winona Arts Center
REFRESH-INTERVAL;VALUE=DURATION:PT1H
X-Robots-Tag:noindex
X-PUBLISHED-TTL:PT1H
BEGIN:VTIMEZONE
TZID:America/Chicago
BEGIN:DAYLIGHT
TZOFFSETFROM:-0600
TZOFFSETTO:-0500
TZNAME:CDT
DTSTART:20240310T080000
END:DAYLIGHT
BEGIN:STANDARD
TZOFFSETFROM:-0500
TZOFFSETTO:-0600
TZNAME:CST
DTSTART:20241103T070000
END:STANDARD
BEGIN:DAYLIGHT
TZOFFSETFROM:-0600
TZOFFSETTO:-0500
TZNAME:CDT
DTSTART:20250309T080000
END:DAYLIGHT
BEGIN:STANDARD
TZOFFSETFROM:-0500
TZOFFSETTO:-0600
TZNAME:CST
DTSTART:20251102T070000
END:STANDARD
BEGIN:DAYLIGHT
TZOFFSETFROM:-0600
TZOFFSETTO:-0500
TZNAME:CDT
DTSTART:20260308T080000
END:DAYLIGHT
BEGIN:STANDARD
TZOFFSETFROM:-0500
TZOFFSETTO:-0600
TZNAME:CST
DTSTART:20261101T070000
END:STANDARD
END:VTIMEZONE
BEGIN:VTIMEZONE
TZID:UTC
BEGIN:STANDARD
TZOFFSETFROM:+0000
TZOFFSETTO:+0000
TZNAME:UTC
DTSTART:20230101T000000
END:STANDARD
END:VTIMEZONE
BEGIN:VEVENT
DTSTART;TZID=America/Chicago:20250125T130000
DTEND;TZID=America/Chicago:20250125T160000
DTSTAMP:20260419T164054
CREATED:20241226T062825Z
LAST-MODIFIED:20241226T062825Z
UID:3993-1737810000-1737820800@winonaarts.org
SUMMARY:Art Gallery Open
DESCRIPTION:
URL:https://winonaarts.org/event/art-gallery-open-38/
LOCATION:Winona Arts Center\, 228 East 5th Street\, Winona\, MN\, 55987\, United States
CATEGORIES:Gallery
END:VEVENT
BEGIN:VEVENT
DTSTART;TZID=America/Chicago:20250119T130000
DTEND;TZID=America/Chicago:20250119T160000
DTSTAMP:20260419T164054
CREATED:20241226T062751Z
LAST-MODIFIED:20241226T062751Z
UID:3991-1737291600-1737302400@winonaarts.org
SUMMARY:Art Gallery Open
DESCRIPTION:
URL:https://winonaarts.org/event/art-gallery-open-37/
LOCATION:Winona Arts Center\, 228 East 5th Street\, Winona\, MN\, 55987\, United States
CATEGORIES:Gallery
END:VEVENT
BEGIN:VEVENT
DTSTART;TZID=America/Chicago:20250118T130000
DTEND;TZID=America/Chicago:20250118T160000
DTSTAMP:20260419T164054
CREATED:20241226T062721Z
LAST-MODIFIED:20241226T062721Z
UID:3989-1737205200-1737216000@winonaarts.org
SUMMARY:Art Gallery Open
DESCRIPTION:
URL:https://winonaarts.org/event/art-gallery-open-36/
LOCATION:Winona Arts Center\, 228 East 5th Street\, Winona\, MN\, 55987\, United States
CATEGORIES:Gallery
END:VEVENT
BEGIN:VEVENT
DTSTART;TZID=America/Chicago:20250112T130000
DTEND;TZID=America/Chicago:20250112T160000
DTSTAMP:20260419T164054
CREATED:20241226T062543Z
LAST-MODIFIED:20241226T062543Z
UID:3987-1736686800-1736697600@winonaarts.org
SUMMARY:Art Gallery Open
DESCRIPTION:
URL:https://winonaarts.org/event/art-gallery-open-35/
LOCATION:Winona Arts Center\, 228 East 5th Street\, Winona\, MN\, 55987\, United States
CATEGORIES:Gallery
END:VEVENT
BEGIN:VEVENT
DTSTART;TZID=America/Chicago:20250111T130000
DTEND;TZID=America/Chicago:20250111T160000
DTSTAMP:20260419T164054
CREATED:20241226T062509Z
LAST-MODIFIED:20241226T062509Z
UID:3985-1736600400-1736611200@winonaarts.org
SUMMARY:Art Gallery Open
DESCRIPTION:
URL:https://winonaarts.org/event/art-gallery-open-34/
LOCATION:Winona Arts Center\, 228 East 5th Street\, Winona\, MN\, 55987\, United States
CATEGORIES:Gallery
END:VEVENT
BEGIN:VEVENT
DTSTART;TZID=America/Chicago:20250105T130000
DTEND;TZID=America/Chicago:20250105T160000
DTSTAMP:20260419T164054
CREATED:20241226T062426Z
LAST-MODIFIED:20241226T062426Z
UID:3983-1736082000-1736092800@winonaarts.org
SUMMARY:Art Gallery Open
DESCRIPTION:
URL:https://winonaarts.org/event/art-gallery-open-33/
LOCATION:Winona Arts Center\, 228 East 5th Street\, Winona\, MN\, 55987\, United States
CATEGORIES:Gallery
END:VEVENT
BEGIN:VEVENT
DTSTART;TZID=America/Chicago:20250104T130000
DTEND;TZID=America/Chicago:20250104T160000
DTSTAMP:20260419T164054
CREATED:20241226T062330Z
LAST-MODIFIED:20241226T062330Z
UID:3981-1735995600-1736006400@winonaarts.org
SUMMARY:Art Gallery Open
DESCRIPTION:
URL:https://winonaarts.org/event/art-gallery-open-22/
LOCATION:Winona Arts Center\, 228 East 5th Street\, Winona\, MN\, 55987\, United States
CATEGORIES:Gallery
END:VEVENT
BEGIN:VEVENT
DTSTART;TZID=UTC:20241229T130000
DTEND;TZID=UTC:20241229T160000
DTSTAMP:20260419T164054
CREATED:20240821T095444Z
LAST-MODIFIED:20240821T095444Z
UID:3597-1735477200-1735488000@winonaarts.org
SUMMARY:Art Gallery Open
DESCRIPTION:
URL:https://winonaarts.org/event/art-gallery-open-32/
LOCATION:Winona Arts Center\, 228 East 5th Street\, Winona\, MN\, 55987\, United States
CATEGORIES:Gallery
END:VEVENT
BEGIN:VEVENT
DTSTART;TZID=UTC:20241228T130000
DTEND;TZID=UTC:20241228T160000
DTSTAMP:20260419T164054
CREATED:20240821T095417Z
LAST-MODIFIED:20240821T095417Z
UID:3595-1735390800-1735401600@winonaarts.org
SUMMARY:Art Gallery Open
DESCRIPTION:
URL:https://winonaarts.org/event/art-gallery-open-31/
LOCATION:Winona Arts Center\, 228 East 5th Street\, Winona\, MN\, 55987\, United States
CATEGORIES:Gallery
END:VEVENT
BEGIN:VEVENT
DTSTART;TZID=UTC:20241222T130000
DTEND;TZID=UTC:20241222T160000
DTSTAMP:20260419T164054
CREATED:20240821T095322Z
LAST-MODIFIED:20240821T095322Z
UID:3593-1734872400-1734883200@winonaarts.org
SUMMARY:Art Gallery Open
DESCRIPTION:
URL:https://winonaarts.org/event/art-gallery-open-30/
LOCATION:Winona Arts Center\, 228 East 5th Street\, Winona\, MN\, 55987\, United States
CATEGORIES:Gallery
END:VEVENT
BEGIN:VEVENT
DTSTART;TZID=UTC:20241221T130000
DTEND;TZID=UTC:20241221T160000
DTSTAMP:20260419T164054
CREATED:20240821T095254Z
LAST-MODIFIED:20240821T095254Z
UID:3591-1734786000-1734796800@winonaarts.org
SUMMARY:Art Gallery Open
DESCRIPTION:
URL:https://winonaarts.org/event/art-gallery-open-29/
LOCATION:Winona Arts Center\, 228 East 5th Street\, Winona\, MN\, 55987\, United States
CATEGORIES:Gallery
END:VEVENT
BEGIN:VEVENT
DTSTART;TZID=UTC:20241215T130000
DTEND;TZID=UTC:20241215T160000
DTSTAMP:20260419T164054
CREATED:20240821T095214Z
LAST-MODIFIED:20240821T095214Z
UID:3589-1734267600-1734278400@winonaarts.org
SUMMARY:Art Gallery Open
DESCRIPTION:
URL:https://winonaarts.org/event/art-gallery-open-28/
LOCATION:Winona Arts Center\, 228 East 5th Street\, Winona\, MN\, 55987\, United States
CATEGORIES:Gallery
END:VEVENT
BEGIN:VEVENT
DTSTART;TZID=UTC:20241214T130000
DTEND;TZID=UTC:20241214T160000
DTSTAMP:20260419T164054
CREATED:20240821T095134Z
LAST-MODIFIED:20240821T095134Z
UID:3587-1734181200-1734192000@winonaarts.org
SUMMARY:Art Gallery Open
DESCRIPTION:
URL:https://winonaarts.org/event/art-gallery-open-27/
LOCATION:Winona Arts Center\, 228 East 5th Street\, Winona\, MN\, 55987\, United States
CATEGORIES:Gallery
END:VEVENT
BEGIN:VEVENT
DTSTART;TZID=UTC:20241208T130000
DTEND;TZID=UTC:20241208T160000
DTSTAMP:20260419T164054
CREATED:20240821T095038Z
LAST-MODIFIED:20240821T095038Z
UID:3585-1733662800-1733673600@winonaarts.org
SUMMARY:Art Gallery Open
DESCRIPTION:
URL:https://winonaarts.org/event/art-gallery-open-26/
LOCATION:Winona Arts Center\, 228 East 5th Street\, Winona\, MN\, 55987\, United States
CATEGORIES:Gallery
END:VEVENT
BEGIN:VEVENT
DTSTART;TZID=UTC:20241207T130000
DTEND;TZID=UTC:20241207T160000
DTSTAMP:20260419T164054
CREATED:20240821T095011Z
LAST-MODIFIED:20240821T095011Z
UID:3583-1733576400-1733587200@winonaarts.org
SUMMARY:Art Gallery Open
DESCRIPTION:
URL:https://winonaarts.org/event/art-gallery-open-25/
LOCATION:Winona Arts Center\, 228 East 5th Street\, Winona\, MN\, 55987\, United States
CATEGORIES:Gallery
END:VEVENT
BEGIN:VEVENT
DTSTART;TZID=UTC:20241201T130000
DTEND;TZID=UTC:20241201T160000
DTSTAMP:20260419T164054
CREATED:20240821T094939Z
LAST-MODIFIED:20240821T094939Z
UID:3581-1733058000-1733068800@winonaarts.org
SUMMARY:Art Gallery Open
DESCRIPTION:
URL:https://winonaarts.org/event/art-gallery-open-24/
LOCATION:Winona Arts Center\, 228 East 5th Street\, Winona\, MN\, 55987\, United States
CATEGORIES:Gallery
END:VEVENT
BEGIN:VEVENT
DTSTART;TZID=UTC:20241130T130000
DTEND;TZID=UTC:20241130T160000
DTSTAMP:20260419T164054
CREATED:20240821T094908Z
LAST-MODIFIED:20240821T094908Z
UID:3579-1732971600-1732982400@winonaarts.org
SUMMARY:Art Gallery Open
DESCRIPTION:
URL:https://winonaarts.org/event/art-gallery-open-23/
LOCATION:Winona Arts Center\, 228 East 5th Street\, Winona\, MN\, 55987\, United States
CATEGORIES:Gallery
END:VEVENT
BEGIN:VEVENT
DTSTART;TZID=UTC:20241124T130000
DTEND;TZID=UTC:20241124T160000
DTSTAMP:20260419T164054
CREATED:20240821T094810Z
LAST-MODIFIED:20240821T094810Z
UID:3575-1732453200-1732464000@winonaarts.org
SUMMARY:Art Gallery Open
DESCRIPTION:
URL:https://winonaarts.org/event/art-gallery-open-21/
LOCATION:Winona Arts Center\, 228 East 5th Street\, Winona\, MN\, 55987\, United States
CATEGORIES:Gallery
END:VEVENT
BEGIN:VEVENT
DTSTART;TZID=UTC:20241123T130000
DTEND;TZID=UTC:20241123T160000
DTSTAMP:20260419T164054
CREATED:20240821T094729Z
LAST-MODIFIED:20240821T094729Z
UID:3573-1732366800-1732377600@winonaarts.org
SUMMARY:Art Gallery Open
DESCRIPTION:
URL:https://winonaarts.org/event/art-gallery-open-20/
LOCATION:Winona Arts Center\, 228 East 5th Street\, Winona\, MN\, 55987\, United States
CATEGORIES:Gallery
END:VEVENT
BEGIN:VEVENT
DTSTART;TZID=UTC:20241117T130000
DTEND;TZID=UTC:20241117T160000
DTSTAMP:20260419T164054
CREATED:20240821T094701Z
LAST-MODIFIED:20240821T094701Z
UID:3571-1731848400-1731859200@winonaarts.org
SUMMARY:Art Gallery Open
DESCRIPTION:
URL:https://winonaarts.org/event/art-gallery-open-19/
LOCATION:Winona Arts Center\, 228 East 5th Street\, Winona\, MN\, 55987\, United States
CATEGORIES:Gallery
END:VEVENT
BEGIN:VEVENT
DTSTART;TZID=UTC:20241116T130000
DTEND;TZID=UTC:20241116T160000
DTSTAMP:20260419T164054
CREATED:20240821T094635Z
LAST-MODIFIED:20240821T094635Z
UID:3569-1731762000-1731772800@winonaarts.org
SUMMARY:Art Gallery Open
DESCRIPTION:
URL:https://winonaarts.org/event/art-gallery-open-18/
LOCATION:Winona Arts Center\, 228 East 5th Street\, Winona\, MN\, 55987\, United States
CATEGORIES:Gallery
END:VEVENT
BEGIN:VEVENT
DTSTART;TZID=UTC:20241110T130000
DTEND;TZID=UTC:20241110T160000
DTSTAMP:20260419T164054
CREATED:20240821T094549Z
LAST-MODIFIED:20240821T094549Z
UID:3567-1731243600-1731254400@winonaarts.org
SUMMARY:Art Gallery Open
DESCRIPTION:
URL:https://winonaarts.org/event/art-gallery-open-17/
LOCATION:Winona Arts Center\, 228 East 5th Street\, Winona\, MN\, 55987\, United States
CATEGORIES:Gallery
END:VEVENT
BEGIN:VEVENT
DTSTART;TZID=UTC:20241109T130000
DTEND;TZID=UTC:20241109T160000
DTSTAMP:20260419T164054
CREATED:20240821T094507Z
LAST-MODIFIED:20240821T094507Z
UID:3565-1731157200-1731168000@winonaarts.org
SUMMARY:Art Gallery Open
DESCRIPTION:
URL:https://winonaarts.org/event/art-gallery-open-16/
LOCATION:Winona Arts Center\, 228 East 5th Street\, Winona\, MN\, 55987\, United States
CATEGORIES:Gallery
END:VEVENT
BEGIN:VEVENT
DTSTART;TZID=UTC:20241103T130000
DTEND;TZID=UTC:20241103T160000
DTSTAMP:20260419T164054
CREATED:20240821T094436Z
LAST-MODIFIED:20240821T094436Z
UID:3563-1730638800-1730649600@winonaarts.org
SUMMARY:Art Gallery Open
DESCRIPTION:
URL:https://winonaarts.org/event/art-gallery-open-15/
LOCATION:Winona Arts Center\, 228 East 5th Street\, Winona\, MN\, 55987\, United States
CATEGORIES:Gallery
END:VEVENT
BEGIN:VEVENT
DTSTART;TZID=UTC:20241102T130000
DTEND;TZID=UTC:20241102T160000
DTSTAMP:20260419T164054
CREATED:20240821T094259Z
LAST-MODIFIED:20240821T094259Z
UID:3561-1730552400-1730563200@winonaarts.org
SUMMARY:Art Gallery Open
DESCRIPTION:
URL:https://winonaarts.org/event/art-gallery-open-14/
LOCATION:Winona Arts Center\, 228 East 5th Street\, Winona\, MN\, 55987\, United States
CATEGORIES:Gallery
END:VEVENT
BEGIN:VEVENT
DTSTART;TZID=UTC:20241027T130000
DTEND;TZID=UTC:20241027T160000
DTSTAMP:20260419T164054
CREATED:20240821T094208Z
LAST-MODIFIED:20240821T094347Z
UID:3559-1730034000-1730044800@winonaarts.org
SUMMARY:Art Gallery Open
DESCRIPTION:
URL:https://winonaarts.org/event/art-gallery-open-13/
LOCATION:Winona Arts Center\, 228 East 5th Street\, Winona\, MN\, 55987\, United States
CATEGORIES:Gallery
END:VEVENT
BEGIN:VEVENT
DTSTART;TZID=UTC:20241026T130000
DTEND;TZID=UTC:20241026T160000
DTSTAMP:20260419T164054
CREATED:20240821T094120Z
LAST-MODIFIED:20240821T094120Z
UID:3557-1729947600-1729958400@winonaarts.org
SUMMARY:Art Gallery Open
DESCRIPTION:
URL:https://winonaarts.org/event/art-gallery-open-12/
LOCATION:Winona Arts Center\, 228 East 5th Street\, Winona\, MN\, 55987\, United States
CATEGORIES:Gallery
END:VEVENT
BEGIN:VEVENT
DTSTART;TZID=UTC:20241020T130000
DTEND;TZID=UTC:20241020T160000
DTSTAMP:20260419T164054
CREATED:20240821T094045Z
LAST-MODIFIED:20240821T094045Z
UID:3555-1729429200-1729440000@winonaarts.org
SUMMARY:Art Gallery Open
DESCRIPTION:
URL:https://winonaarts.org/event/art-gallery-open-11/
LOCATION:Winona Arts Center\, 228 East 5th Street\, Winona\, MN\, 55987\, United States
CATEGORIES:Gallery
END:VEVENT
BEGIN:VEVENT
DTSTART;TZID=UTC:20241019T130000
DTEND;TZID=UTC:20241019T160000
DTSTAMP:20260419T164054
CREATED:20240821T094022Z
LAST-MODIFIED:20240821T094022Z
UID:3553-1729342800-1729353600@winonaarts.org
SUMMARY:Art Gallery Open
DESCRIPTION:
URL:https://winonaarts.org/event/art-gallery-open-10/
LOCATION:Winona Arts Center\, 228 East 5th Street\, Winona\, MN\, 55987\, United States
CATEGORIES:Gallery
END:VEVENT
BEGIN:VEVENT
DTSTART;TZID=UTC:20241013T130000
DTEND;TZID=UTC:20241013T160000
DTSTAMP:20260419T164054
CREATED:20240821T093945Z
LAST-MODIFIED:20240821T093945Z
UID:3551-1728824400-1728835200@winonaarts.org
SUMMARY:Art Gallery Open
DESCRIPTION:
URL:https://winonaarts.org/event/art-gallery-open-9/
LOCATION:Winona Arts Center\, 228 East 5th Street\, Winona\, MN\, 55987\, United States
CATEGORIES:Gallery
END:VEVENT
END:VCALENDAR