BEGIN:VCALENDAR
VERSION:2.0
PRODID:-//Winona Arts Center - ECPv6.15.20//NONSGML v1.0//EN
CALSCALE:GREGORIAN
METHOD:PUBLISH
X-ORIGINAL-URL:https://winonaarts.org
X-WR-CALDESC:Events for Winona Arts Center
REFRESH-INTERVAL;VALUE=DURATION:PT1H
X-Robots-Tag:noindex
X-PUBLISHED-TTL:PT1H
BEGIN:VTIMEZONE
TZID:America/Chicago
BEGIN:DAYLIGHT
TZOFFSETFROM:-0600
TZOFFSETTO:-0500
TZNAME:CDT
DTSTART:20240310T080000
END:DAYLIGHT
BEGIN:STANDARD
TZOFFSETFROM:-0500
TZOFFSETTO:-0600
TZNAME:CST
DTSTART:20241103T070000
END:STANDARD
BEGIN:DAYLIGHT
TZOFFSETFROM:-0600
TZOFFSETTO:-0500
TZNAME:CDT
DTSTART:20250309T080000
END:DAYLIGHT
BEGIN:STANDARD
TZOFFSETFROM:-0500
TZOFFSETTO:-0600
TZNAME:CST
DTSTART:20251102T070000
END:STANDARD
BEGIN:DAYLIGHT
TZOFFSETFROM:-0600
TZOFFSETTO:-0500
TZNAME:CDT
DTSTART:20260308T080000
END:DAYLIGHT
BEGIN:STANDARD
TZOFFSETFROM:-0500
TZOFFSETTO:-0600
TZNAME:CST
DTSTART:20261101T070000
END:STANDARD
END:VTIMEZONE
BEGIN:VEVENT
DTSTART;TZID=America/Chicago:20250524T130000
DTEND;TZID=America/Chicago:20250524T160000
DTSTAMP:20260419T131629
CREATED:20250518T223147Z
LAST-MODIFIED:20250518T223147Z
UID:4405-1748091600-1748102400@winonaarts.org
SUMMARY:Art Gallery Open
DESCRIPTION:
URL:https://winonaarts.org/event/art-gallery-open-60/
LOCATION:Winona Arts Center\, 228 East 5th Street\, Winona\, MN\, 55987\, United States
CATEGORIES:Gallery
END:VEVENT
BEGIN:VEVENT
DTSTART;TZID=America/Chicago:20250427T130000
DTEND;TZID=America/Chicago:20250427T160000
DTSTAMP:20260419T131629
CREATED:20250320T005513Z
LAST-MODIFIED:20250411T015521Z
UID:4194-1745758800-1745769600@winonaarts.org
SUMMARY:Exhibit Opening: An Artist’s Watercolor Journey featuring Linda Arnesen
DESCRIPTION:Exhibit Opening: Sunday / April 27 / 1:00-4:00pm\nOn Display April 27\, 2025 – June 8\, 2025\nAn exhibit showcasing Linda Arnesen’s watercolor journey. Living in Winona\, the driftless region of the state\, she finds endless subjects in landscapes along with a variety of other subjects from floral\, portraits\, birds\, architecture\, etc.. But nature is her favorite subject. \nLinda finds watercolor a challenge since one does not know exactly how the water and paint will blend until it is dry. Watercolor has a transparency and fluidity that portrays light like no other medium. Her goal is to depict an impression of the subject\, capturing the contrast developed by light and shadow\, while working with the paint that seems to have a mind of its own. \nLinda has studied under numerous instructors and artists via classes and workshops. She recently has started plein air painting which has its own challenges. Her goal is to keep the journey going in creating artistic impressions that delight the eyes of the viewer.
URL:https://winonaarts.org/event/exhibit-opening-an-artists-watercolor-journey-featuring-linda-arnesen/
LOCATION:Winona Arts Center\, 228 East 5th Street\, Winona\, MN\, 55987\, United States
CATEGORIES:Events,Exhibits,Gallery
ATTACH;FMTTYPE=image/png:https://winonaarts.org/wp-content/uploads/2025/03/Linda_Arnesen-Postcard-sm.png
END:VEVENT
BEGIN:VEVENT
DTSTART;TZID=America/Chicago:20250406T130000
DTEND;TZID=America/Chicago:20250406T160000
DTSTAMP:20260419T131629
CREATED:20241226T064300Z
LAST-MODIFIED:20241226T064300Z
UID:4035-1743944400-1743955200@winonaarts.org
SUMMARY:Art Gallery Open
DESCRIPTION:
URL:https://winonaarts.org/event/art-gallery-open-59/
LOCATION:Winona Arts Center\, 228 East 5th Street\, Winona\, MN\, 55987\, United States
CATEGORIES:Gallery
END:VEVENT
BEGIN:VEVENT
DTSTART;TZID=America/Chicago:20250405T130000
DTEND;TZID=America/Chicago:20250405T160000
DTSTAMP:20260419T131629
CREATED:20241226T064229Z
LAST-MODIFIED:20241226T064229Z
UID:4033-1743858000-1743868800@winonaarts.org
SUMMARY:Art Gallery Open
DESCRIPTION:
URL:https://winonaarts.org/event/art-gallery-open-58/
LOCATION:Winona Arts Center\, 228 East 5th Street\, Winona\, MN\, 55987\, United States
CATEGORIES:Gallery
END:VEVENT
BEGIN:VEVENT
DTSTART;TZID=America/Chicago:20250330T130000
DTEND;TZID=America/Chicago:20250330T160000
DTSTAMP:20260419T131629
CREATED:20241226T064159Z
LAST-MODIFIED:20241226T064159Z
UID:4031-1743339600-1743350400@winonaarts.org
SUMMARY:Art Gallery Open
DESCRIPTION:
URL:https://winonaarts.org/event/art-gallery-open-57/
LOCATION:Winona Arts Center\, 228 East 5th Street\, Winona\, MN\, 55987\, United States
CATEGORIES:Gallery
END:VEVENT
BEGIN:VEVENT
DTSTART;TZID=America/Chicago:20250329T130000
DTEND;TZID=America/Chicago:20250329T160000
DTSTAMP:20260419T131629
CREATED:20241226T064107Z
LAST-MODIFIED:20241226T064107Z
UID:4029-1743253200-1743264000@winonaarts.org
SUMMARY:Art Gallery Open
DESCRIPTION:
URL:https://winonaarts.org/event/art-gallery-open-56/
LOCATION:Winona Arts Center\, 228 East 5th Street\, Winona\, MN\, 55987\, United States
CATEGORIES:Gallery
END:VEVENT
BEGIN:VEVENT
DTSTART;TZID=America/Chicago:20250323T130000
DTEND;TZID=America/Chicago:20250323T160000
DTSTAMP:20260419T131629
CREATED:20241226T064019Z
LAST-MODIFIED:20241226T064019Z
UID:4027-1742734800-1742745600@winonaarts.org
SUMMARY:Art Gallery Open
DESCRIPTION:
URL:https://winonaarts.org/event/art-gallery-open-55/
LOCATION:Winona Arts Center\, 228 East 5th Street\, Winona\, MN\, 55987\, United States
CATEGORIES:Gallery
END:VEVENT
BEGIN:VEVENT
DTSTART;TZID=America/Chicago:20250322T130000
DTEND;TZID=America/Chicago:20250322T160000
DTSTAMP:20260419T131629
CREATED:20241226T063834Z
LAST-MODIFIED:20241226T063834Z
UID:4025-1742648400-1742659200@winonaarts.org
SUMMARY:Art Gallery Open
DESCRIPTION:
URL:https://winonaarts.org/event/art-gallery-open-54/
LOCATION:Winona Arts Center\, 228 East 5th Street\, Winona\, MN\, 55987\, United States
CATEGORIES:Gallery
END:VEVENT
BEGIN:VEVENT
DTSTART;TZID=America/Chicago:20250316T130000
DTEND;TZID=America/Chicago:20250316T160000
DTSTAMP:20260419T131629
CREATED:20241226T063755Z
LAST-MODIFIED:20241226T063755Z
UID:4023-1742130000-1742140800@winonaarts.org
SUMMARY:Art Gallery Open
DESCRIPTION:
URL:https://winonaarts.org/event/art-gallery-open-53/
LOCATION:Winona Arts Center\, 228 East 5th Street\, Winona\, MN\, 55987\, United States
CATEGORIES:Gallery
END:VEVENT
BEGIN:VEVENT
DTSTART;TZID=America/Chicago:20250315T130000
DTEND;TZID=America/Chicago:20250315T160000
DTSTAMP:20260419T131629
CREATED:20241226T063727Z
LAST-MODIFIED:20241226T063727Z
UID:4021-1742043600-1742054400@winonaarts.org
SUMMARY:Art Gallery Open
DESCRIPTION:
URL:https://winonaarts.org/event/art-gallery-open-52/
LOCATION:Winona Arts Center\, 228 East 5th Street\, Winona\, MN\, 55987\, United States
CATEGORIES:Gallery
END:VEVENT
BEGIN:VEVENT
DTSTART;TZID=America/Chicago:20250309T130000
DTEND;TZID=America/Chicago:20250309T160000
DTSTAMP:20260419T131629
CREATED:20250224T052042Z
LAST-MODIFIED:20250224T053251Z
UID:4104-1741525200-1741536000@winonaarts.org
SUMMARY:Lynn Aldrich Retrospective: Watercolors by Lynn Aldrich presented by her family
DESCRIPTION:OPENING RECEPTION: SUNDAY / MARCH 9 / 1:00PM – 4:00PM\nEXHIBIT DATES: MARCH 9 – APRIL 20\, 2025 \nThis exhibit showcases the lifetime work of watercolorist Lynn Aldrich. She adored the beauty of the northland flora and fauna\, which she used as inspiration for many of her pieces. \nThis exhibit includes paintings of tiger lilies\, daffodils\, cosmos\, northern scenery\, and abstracts. Lynn passed away in 2023\, but she left us with an abundance of beauty and inspiration within her paintings.
URL:https://winonaarts.org/event/lynn-aldrich-retrospective-watercolors-by-lynn-aldrich-presented-by-her-family/
LOCATION:Winona Arts Center\, 228 East 5th Street\, Winona\, MN\, 55987\, United States
CATEGORIES:Artists' Event,Events,Exhibits,Gallery
ATTACH;FMTTYPE=image/png:https://winonaarts.org/wp-content/uploads/2025/02/Lynn-Aldrich-4-paintings-1-e1740374430927.png
END:VEVENT
BEGIN:VEVENT
DTSTART;TZID=America/Chicago:20250309T130000
DTEND;TZID=America/Chicago:20250309T160000
DTSTAMP:20260419T131629
CREATED:20241226T063653Z
LAST-MODIFIED:20241226T063653Z
UID:4019-1741525200-1741536000@winonaarts.org
SUMMARY:Art Gallery Open
DESCRIPTION:
URL:https://winonaarts.org/event/art-gallery-open-51/
LOCATION:Winona Arts Center\, 228 East 5th Street\, Winona\, MN\, 55987\, United States
CATEGORIES:Gallery
END:VEVENT
BEGIN:VEVENT
DTSTART;TZID=America/Chicago:20250308T130000
DTEND;TZID=America/Chicago:20250308T160000
DTSTAMP:20260419T131629
CREATED:20241226T063606Z
LAST-MODIFIED:20241226T063606Z
UID:4017-1741438800-1741449600@winonaarts.org
SUMMARY:Art Gallery Open
DESCRIPTION:
URL:https://winonaarts.org/event/art-gallery-open-50/
LOCATION:Winona Arts Center\, 228 East 5th Street\, Winona\, MN\, 55987\, United States
CATEGORIES:Gallery
END:VEVENT
BEGIN:VEVENT
DTSTART;TZID=America/Chicago:20250302T130000
DTEND;TZID=America/Chicago:20250302T160000
DTSTAMP:20260419T131629
CREATED:20241226T063521Z
LAST-MODIFIED:20241226T063521Z
UID:4015-1740920400-1740931200@winonaarts.org
SUMMARY:Art Gallery Open
DESCRIPTION:
URL:https://winonaarts.org/event/art-gallery-open-49/
LOCATION:Winona Arts Center\, 228 East 5th Street\, Winona\, MN\, 55987\, United States
CATEGORIES:Gallery
END:VEVENT
BEGIN:VEVENT
DTSTART;TZID=America/Chicago:20250301T130000
DTEND;TZID=America/Chicago:20250301T160000
DTSTAMP:20260419T131629
CREATED:20241226T063446Z
LAST-MODIFIED:20241226T063446Z
UID:4013-1740834000-1740844800@winonaarts.org
SUMMARY:Art Gallery Open
DESCRIPTION:
URL:https://winonaarts.org/event/art-gallery-open-48/
LOCATION:Winona Arts Center\, 228 East 5th Street\, Winona\, MN\, 55987\, United States
CATEGORIES:Gallery
END:VEVENT
BEGIN:VEVENT
DTSTART;TZID=America/Chicago:20250223T130000
DTEND;TZID=America/Chicago:20250223T160000
DTSTAMP:20260419T131629
CREATED:20241226T063412Z
LAST-MODIFIED:20241226T063412Z
UID:4011-1740315600-1740326400@winonaarts.org
SUMMARY:Art Gallery Open
DESCRIPTION:
URL:https://winonaarts.org/event/art-gallery-open-47/
LOCATION:Winona Arts Center\, 228 East 5th Street\, Winona\, MN\, 55987\, United States
CATEGORIES:Gallery
END:VEVENT
BEGIN:VEVENT
DTSTART;TZID=America/Chicago:20250222T130000
DTEND;TZID=America/Chicago:20250222T160000
DTSTAMP:20260419T131629
CREATED:20241226T063332Z
LAST-MODIFIED:20241226T063332Z
UID:4009-1740229200-1740240000@winonaarts.org
SUMMARY:Art Gallery Open
DESCRIPTION:
URL:https://winonaarts.org/event/art-gallery-open-46/
LOCATION:Winona Arts Center\, 228 East 5th Street\, Winona\, MN\, 55987\, United States
CATEGORIES:Gallery
END:VEVENT
BEGIN:VEVENT
DTSTART;TZID=America/Chicago:20250216T130000
DTEND;TZID=America/Chicago:20250216T160000
DTSTAMP:20260419T131629
CREATED:20241226T063257Z
LAST-MODIFIED:20241226T063257Z
UID:4007-1739710800-1739721600@winonaarts.org
SUMMARY:Art Gallery Open
DESCRIPTION:
URL:https://winonaarts.org/event/art-gallery-open-45/
LOCATION:Winona Arts Center\, 228 East 5th Street\, Winona\, MN\, 55987\, United States
CATEGORIES:Gallery
END:VEVENT
BEGIN:VEVENT
DTSTART;TZID=America/Chicago:20250215T130000
DTEND;TZID=America/Chicago:20250215T160000
DTSTAMP:20260419T131629
CREATED:20241226T063222Z
LAST-MODIFIED:20241226T063222Z
UID:4005-1739624400-1739635200@winonaarts.org
SUMMARY:Art Gallery Open
DESCRIPTION:
URL:https://winonaarts.org/event/art-gallery-open-44/
LOCATION:Winona Arts Center\, 228 East 5th Street\, Winona\, MN\, 55987\, United States
CATEGORIES:Gallery
END:VEVENT
BEGIN:VEVENT
DTSTART;TZID=America/Chicago:20250209T130000
DTEND;TZID=America/Chicago:20250209T160000
DTSTAMP:20260419T131629
CREATED:20241226T063150Z
LAST-MODIFIED:20241226T063150Z
UID:4003-1739106000-1739116800@winonaarts.org
SUMMARY:Art Gallery Open
DESCRIPTION:
URL:https://winonaarts.org/event/art-gallery-open-43/
LOCATION:Winona Arts Center\, 228 East 5th Street\, Winona\, MN\, 55987\, United States
CATEGORIES:Gallery
END:VEVENT
BEGIN:VEVENT
DTSTART;TZID=America/Chicago:20250208T130000
DTEND;TZID=America/Chicago:20250208T160000
DTSTAMP:20260419T131629
CREATED:20241226T063111Z
LAST-MODIFIED:20241226T063111Z
UID:4001-1739019600-1739030400@winonaarts.org
SUMMARY:Art Gallery Open
DESCRIPTION:
URL:https://winonaarts.org/event/art-gallery-open-42/
LOCATION:Winona Arts Center\, 228 East 5th Street\, Winona\, MN\, 55987\, United States
CATEGORIES:Gallery
END:VEVENT
BEGIN:VEVENT
DTSTART;TZID=America/Chicago:20250202T130000
DTEND;TZID=America/Chicago:20250202T160000
DTSTAMP:20260419T131629
CREATED:20241226T063031Z
LAST-MODIFIED:20241226T063031Z
UID:3999-1738501200-1738512000@winonaarts.org
SUMMARY:Art Gallery Open
DESCRIPTION:
URL:https://winonaarts.org/event/art-gallery-open-41/
LOCATION:Winona Arts Center\, 228 East 5th Street\, Winona\, MN\, 55987\, United States
CATEGORIES:Gallery
END:VEVENT
BEGIN:VEVENT
DTSTART;TZID=America/Chicago:20250201T130000
DTEND;TZID=America/Chicago:20250201T160000
DTSTAMP:20260419T131629
CREATED:20241226T062949Z
LAST-MODIFIED:20241226T062949Z
UID:3997-1738414800-1738425600@winonaarts.org
SUMMARY:Art Gallery Open
DESCRIPTION:
URL:https://winonaarts.org/event/art-gallery-open-40/
LOCATION:Winona Arts Center\, 228 East 5th Street\, Winona\, MN\, 55987\, United States
CATEGORIES:Gallery
END:VEVENT
BEGIN:VEVENT
DTSTART;TZID=America/Chicago:20250126T130000
DTEND;TZID=America/Chicago:20250126T160000
DTSTAMP:20260419T131629
CREATED:20241226T062857Z
LAST-MODIFIED:20241226T062857Z
UID:3995-1737896400-1737907200@winonaarts.org
SUMMARY:Art Gallery Open
DESCRIPTION:
URL:https://winonaarts.org/event/art-gallery-open-39/
LOCATION:Winona Arts Center\, 228 East 5th Street\, Winona\, MN\, 55987\, United States
CATEGORIES:Gallery
END:VEVENT
BEGIN:VEVENT
DTSTART;TZID=America/Chicago:20250125T130000
DTEND;TZID=America/Chicago:20250125T160000
DTSTAMP:20260419T131629
CREATED:20241226T062825Z
LAST-MODIFIED:20241226T062825Z
UID:3993-1737810000-1737820800@winonaarts.org
SUMMARY:Art Gallery Open
DESCRIPTION:
URL:https://winonaarts.org/event/art-gallery-open-38/
LOCATION:Winona Arts Center\, 228 East 5th Street\, Winona\, MN\, 55987\, United States
CATEGORIES:Gallery
END:VEVENT
BEGIN:VEVENT
DTSTART;TZID=America/Chicago:20250119T130000
DTEND;TZID=America/Chicago:20250119T160000
DTSTAMP:20260419T131629
CREATED:20241226T062751Z
LAST-MODIFIED:20241226T062751Z
UID:3991-1737291600-1737302400@winonaarts.org
SUMMARY:Art Gallery Open
DESCRIPTION:
URL:https://winonaarts.org/event/art-gallery-open-37/
LOCATION:Winona Arts Center\, 228 East 5th Street\, Winona\, MN\, 55987\, United States
CATEGORIES:Gallery
END:VEVENT
BEGIN:VEVENT
DTSTART;TZID=America/Chicago:20250118T130000
DTEND;TZID=America/Chicago:20250118T160000
DTSTAMP:20260419T131629
CREATED:20241226T062721Z
LAST-MODIFIED:20241226T062721Z
UID:3989-1737205200-1737216000@winonaarts.org
SUMMARY:Art Gallery Open
DESCRIPTION:
URL:https://winonaarts.org/event/art-gallery-open-36/
LOCATION:Winona Arts Center\, 228 East 5th Street\, Winona\, MN\, 55987\, United States
CATEGORIES:Gallery
END:VEVENT
BEGIN:VEVENT
DTSTART;TZID=America/Chicago:20250112T130000
DTEND;TZID=America/Chicago:20250112T160000
DTSTAMP:20260419T131629
CREATED:20241226T062543Z
LAST-MODIFIED:20241226T062543Z
UID:3987-1736686800-1736697600@winonaarts.org
SUMMARY:Art Gallery Open
DESCRIPTION:
URL:https://winonaarts.org/event/art-gallery-open-35/
LOCATION:Winona Arts Center\, 228 East 5th Street\, Winona\, MN\, 55987\, United States
CATEGORIES:Gallery
END:VEVENT
BEGIN:VEVENT
DTSTART;TZID=America/Chicago:20250111T130000
DTEND;TZID=America/Chicago:20250111T160000
DTSTAMP:20260419T131629
CREATED:20241226T062509Z
LAST-MODIFIED:20241226T062509Z
UID:3985-1736600400-1736611200@winonaarts.org
SUMMARY:Art Gallery Open
DESCRIPTION:
URL:https://winonaarts.org/event/art-gallery-open-34/
LOCATION:Winona Arts Center\, 228 East 5th Street\, Winona\, MN\, 55987\, United States
CATEGORIES:Gallery
END:VEVENT
BEGIN:VEVENT
DTSTART;TZID=America/Chicago:20250105T130000
DTEND;TZID=America/Chicago:20250105T160000
DTSTAMP:20260419T131629
CREATED:20241226T062426Z
LAST-MODIFIED:20241226T062426Z
UID:3983-1736082000-1736092800@winonaarts.org
SUMMARY:Art Gallery Open
DESCRIPTION:
URL:https://winonaarts.org/event/art-gallery-open-33/
LOCATION:Winona Arts Center\, 228 East 5th Street\, Winona\, MN\, 55987\, United States
CATEGORIES:Gallery
END:VEVENT
END:VCALENDAR