BEGIN:VCALENDAR
VERSION:2.0
PRODID:-//Winona Arts Center - ECPv6.15.20//NONSGML v1.0//EN
CALSCALE:GREGORIAN
METHOD:PUBLISH
X-ORIGINAL-URL:https://winonaarts.org
X-WR-CALDESC:Events for Winona Arts Center
REFRESH-INTERVAL;VALUE=DURATION:PT1H
X-Robots-Tag:noindex
X-PUBLISHED-TTL:PT1H
BEGIN:VTIMEZONE
TZID:UTC
BEGIN:STANDARD
TZOFFSETFROM:+0000
TZOFFSETTO:+0000
TZNAME:UTC
DTSTART:20230101T000000
END:STANDARD
END:VTIMEZONE
BEGIN:VEVENT
DTSTART;TZID=UTC:20240921T130000
DTEND;TZID=UTC:20240921T160000
DTSTAMP:20260419T212308
CREATED:20240821T093456Z
LAST-MODIFIED:20240821T093456Z
UID:3535-1726923600-1726934400@winonaarts.org
SUMMARY:Art Gallery Open
DESCRIPTION:
URL:https://winonaarts.org/event/art-gallery-open/
LOCATION:Winona Arts Center\, 228 East 5th Street\, Winona\, MN\, 55987\, United States
CATEGORIES:Gallery
END:VEVENT
BEGIN:VEVENT
DTSTART;TZID=UTC:20240915T130000
DTEND;TZID=UTC:20240915T160000
DTSTAMP:20260419T212308
CREATED:20240821T093725Z
LAST-MODIFIED:20240821T093725Z
UID:3543-1726405200-1726416000@winonaarts.org
SUMMARY:Art Gallery Open
DESCRIPTION:
URL:https://winonaarts.org/event/art-gallery-open-5/
LOCATION:Winona Arts Center\, 228 East 5th Street\, Winona\, MN\, 55987\, United States
CATEGORIES:Gallery
END:VEVENT
BEGIN:VEVENT
DTSTART;TZID=UTC:20240522T150000
DTEND;TZID=UTC:20240522T170000
DTSTAMP:20260419T212308
CREATED:20240516T025357Z
LAST-MODIFIED:20240516T025357Z
UID:3174-1716390000-1716397200@winonaarts.org
SUMMARY:Gallery Open
DESCRIPTION:
URL:https://winonaarts.org/event/gallery-open-23/
LOCATION:Winona Arts Center\, 228 East 5th Street\, Winona\, MN\, 55987\, United States
CATEGORIES:Artists' Event,Gallery
END:VEVENT
BEGIN:VEVENT
DTSTART;TZID=UTC:20240501T150000
DTEND;TZID=UTC:20240501T180000
DTSTAMP:20260419T212308
CREATED:20240217T013524Z
LAST-MODIFIED:20240217T013524Z
UID:2886-1714575600-1714586400@winonaarts.org
SUMMARY:Gallery Open
DESCRIPTION:
URL:https://winonaarts.org/event/gallery-open-22/
LOCATION:Winona Arts Center\, 228 East 5th Street\, Winona\, MN\, 55987\, United States
CATEGORIES:Gallery
END:VEVENT
BEGIN:VEVENT
DTSTART;TZID=UTC:20240428T130000
DTEND;TZID=UTC:20240428T160000
DTSTAMP:20260419T212308
CREATED:20240217T013448Z
LAST-MODIFIED:20240217T013448Z
UID:2884-1714309200-1714320000@winonaarts.org
SUMMARY:Gallery Open
DESCRIPTION:
URL:https://winonaarts.org/event/gallery-open-21/
LOCATION:Winona Arts Center\, 228 East 5th Street\, Winona\, MN\, 55987\, United States
CATEGORIES:Gallery
END:VEVENT
BEGIN:VEVENT
DTSTART;TZID=UTC:20240424T150000
DTEND;TZID=UTC:20240424T180000
DTSTAMP:20260419T212308
CREATED:20240217T013416Z
LAST-MODIFIED:20240217T013416Z
UID:2882-1713970800-1713981600@winonaarts.org
SUMMARY:Gallery Open
DESCRIPTION:
URL:https://winonaarts.org/event/gallery-open-20/
LOCATION:Winona Arts Center\, 228 East 5th Street\, Winona\, MN\, 55987\, United States
CATEGORIES:Gallery
END:VEVENT
BEGIN:VEVENT
DTSTART;TZID=UTC:20240421T130000
DTEND;TZID=UTC:20240421T160000
DTSTAMP:20260419T212308
CREATED:20240217T013336Z
LAST-MODIFIED:20240217T013336Z
UID:2880-1713704400-1713715200@winonaarts.org
SUMMARY:Gallery Open
DESCRIPTION:
URL:https://winonaarts.org/event/gallery-open-19/
LOCATION:Winona Arts Center\, 228 East 5th Street\, Winona\, MN\, 55987\, United States
CATEGORIES:Gallery
END:VEVENT
BEGIN:VEVENT
DTSTART;TZID=UTC:20240417T150000
DTEND;TZID=UTC:20240417T180000
DTSTAMP:20260419T212308
CREATED:20240217T013305Z
LAST-MODIFIED:20240217T013305Z
UID:2878-1713366000-1713376800@winonaarts.org
SUMMARY:Gallery Open
DESCRIPTION:
URL:https://winonaarts.org/event/gallery-open-18/
LOCATION:Winona Arts Center\, 228 East 5th Street\, Winona\, MN\, 55987\, United States
CATEGORIES:Gallery
END:VEVENT
BEGIN:VEVENT
DTSTART;TZID=UTC:20240414T130000
DTEND;TZID=UTC:20240414T160000
DTSTAMP:20260419T212308
CREATED:20240217T013158Z
LAST-MODIFIED:20240217T013158Z
UID:2876-1713099600-1713110400@winonaarts.org
SUMMARY:Gallery Open
DESCRIPTION:
URL:https://winonaarts.org/event/gallery-open-17/
LOCATION:Winona Arts Center\, 228 East 5th Street\, Winona\, MN\, 55987\, United States
CATEGORIES:Gallery
END:VEVENT
BEGIN:VEVENT
DTSTART;TZID=UTC:20240410T150000
DTEND;TZID=UTC:20240410T180000
DTSTAMP:20260419T212308
CREATED:20240217T013056Z
LAST-MODIFIED:20240217T013056Z
UID:2874-1712761200-1712772000@winonaarts.org
SUMMARY:Gallery Open
DESCRIPTION:
URL:https://winonaarts.org/event/gallery-open-16/
LOCATION:Winona Arts Center\, 228 East 5th Street\, Winona\, MN\, 55987\, United States
CATEGORIES:Gallery
END:VEVENT
BEGIN:VEVENT
DTSTART;TZID=UTC:20240407T130000
DTEND;TZID=UTC:20240407T160000
DTSTAMP:20260419T212308
CREATED:20240217T013031Z
LAST-MODIFIED:20240217T013031Z
UID:2872-1712494800-1712505600@winonaarts.org
SUMMARY:Gallery Open
DESCRIPTION:
URL:https://winonaarts.org/event/gallery-open-15/
LOCATION:Winona Arts Center\, 228 East 5th Street\, Winona\, MN\, 55987\, United States
CATEGORIES:Gallery
END:VEVENT
BEGIN:VEVENT
DTSTART;TZID=UTC:20240403T150000
DTEND;TZID=UTC:20240403T180000
DTSTAMP:20260419T212308
CREATED:20240217T013001Z
LAST-MODIFIED:20240217T013224Z
UID:2870-1712156400-1712167200@winonaarts.org
SUMMARY:Gallery Open
DESCRIPTION:
URL:https://winonaarts.org/event/gallery-open-14/
LOCATION:Winona Arts Center\, 228 East 5th Street\, Winona\, MN\, 55987\, United States
CATEGORIES:Gallery
END:VEVENT
BEGIN:VEVENT
DTSTART;TZID=UTC:20240331T010000
DTEND;TZID=UTC:20240331T160000
DTSTAMP:20260419T212308
CREATED:20240217T012848Z
LAST-MODIFIED:20240217T012848Z
UID:2868-1711846800-1711900800@winonaarts.org
SUMMARY:Gallery Open
DESCRIPTION:
URL:https://winonaarts.org/event/gallery-open-13/
LOCATION:Winona Arts Center\, 228 East 5th Street\, Winona\, MN\, 55987\, United States
CATEGORIES:Gallery
END:VEVENT
BEGIN:VEVENT
DTSTART;TZID=UTC:20240327T150000
DTEND;TZID=UTC:20240327T180000
DTSTAMP:20260419T212308
CREATED:20240217T012730Z
LAST-MODIFIED:20240217T012926Z
UID:2866-1711551600-1711562400@winonaarts.org
SUMMARY:Gallery Open
DESCRIPTION:
URL:https://winonaarts.org/event/gallery-open-12/
LOCATION:Winona Arts Center\, 228 East 5th Street\, Winona\, MN\, 55987\, United States
CATEGORIES:Gallery
END:VEVENT
BEGIN:VEVENT
DTSTART;TZID=UTC:20240324T130000
DTEND;TZID=UTC:20240324T160000
DTSTAMP:20260419T212308
CREATED:20240217T012656Z
LAST-MODIFIED:20240217T012656Z
UID:2864-1711285200-1711296000@winonaarts.org
SUMMARY:Gallery Open
DESCRIPTION:
URL:https://winonaarts.org/event/gallery-open-11/
LOCATION:Winona Arts Center\, 228 East 5th Street\, Winona\, MN\, 55987\, United States
CATEGORIES:Gallery
END:VEVENT
BEGIN:VEVENT
DTSTART;TZID=UTC:20240320T150000
DTEND;TZID=UTC:20240320T180000
DTSTAMP:20260419T212308
CREATED:20240217T012622Z
LAST-MODIFIED:20240217T012622Z
UID:2862-1710946800-1710957600@winonaarts.org
SUMMARY:Gallery Open
DESCRIPTION:
URL:https://winonaarts.org/event/gallery-open-10/
LOCATION:Winona Arts Center\, 228 East 5th Street\, Winona\, MN\, 55987\, United States
CATEGORIES:Gallery
END:VEVENT
BEGIN:VEVENT
DTSTART;TZID=UTC:20240317T130000
DTEND;TZID=UTC:20240317T160000
DTSTAMP:20260419T212308
CREATED:20240217T012550Z
LAST-MODIFIED:20240217T012550Z
UID:2860-1710680400-1710691200@winonaarts.org
SUMMARY:Gallery Open
DESCRIPTION:
URL:https://winonaarts.org/event/gallery-open-9/
LOCATION:Winona Arts Center\, 228 East 5th Street\, Winona\, MN\, 55987\, United States
CATEGORIES:Gallery
END:VEVENT
BEGIN:VEVENT
DTSTART;TZID=UTC:20240313T150000
DTEND;TZID=UTC:20240313T180000
DTSTAMP:20260419T212308
CREATED:20240217T012456Z
LAST-MODIFIED:20240217T012456Z
UID:2858-1710342000-1710352800@winonaarts.org
SUMMARY:Gallery Open
DESCRIPTION:
URL:https://winonaarts.org/event/gallery-open-8/
LOCATION:Winona Arts Center\, 228 East 5th Street\, Winona\, MN\, 55987\, United States
CATEGORIES:Gallery
END:VEVENT
BEGIN:VEVENT
DTSTART;TZID=UTC:20240310T130000
DTEND;TZID=UTC:20240310T160000
DTSTAMP:20260419T212308
CREATED:20240217T012337Z
LAST-MODIFIED:20240217T012337Z
UID:2854-1710075600-1710086400@winonaarts.org
SUMMARY:Gallery Open
DESCRIPTION:
URL:https://winonaarts.org/event/gallery-open-6/
LOCATION:Winona Arts Center\, 228 East 5th Street\, Winona\, MN\, 55987\, United States
CATEGORIES:Gallery
END:VEVENT
BEGIN:VEVENT
DTSTART;TZID=UTC:20240306T150000
DTEND;TZID=UTC:20240306T180000
DTSTAMP:20260419T212308
CREATED:20240217T012312Z
LAST-MODIFIED:20240217T012312Z
UID:2852-1709737200-1709748000@winonaarts.org
SUMMARY:Gallery Open
DESCRIPTION:
URL:https://winonaarts.org/event/gallery-open-5/
LOCATION:Winona Arts Center\, 228 East 5th Street\, Winona\, MN\, 55987\, United States
CATEGORIES:Gallery
END:VEVENT
BEGIN:VEVENT
DTSTART;TZID=UTC:20240303T130000
DTEND;TZID=UTC:20240303T160000
DTSTAMP:20260419T212308
CREATED:20240217T012423Z
LAST-MODIFIED:20240217T012423Z
UID:2856-1709470800-1709481600@winonaarts.org
SUMMARY:Gallery Open
DESCRIPTION:
URL:https://winonaarts.org/event/gallery-open-7/
LOCATION:Winona Arts Center\, 228 East 5th Street\, Winona\, MN\, 55987\, United States
CATEGORIES:Gallery
END:VEVENT
BEGIN:VEVENT
DTSTART;TZID=UTC:20240228T150000
DTEND;TZID=UTC:20240228T180000
DTSTAMP:20260419T212308
CREATED:20240217T012124Z
LAST-MODIFIED:20240217T012124Z
UID:2846-1709132400-1709143200@winonaarts.org
SUMMARY:Gallery Open
DESCRIPTION:
URL:https://winonaarts.org/event/gallery-open-2/
LOCATION:Winona Arts Center\, 228 East 5th Street\, Winona\, MN\, 55987\, United States
CATEGORIES:Gallery
END:VEVENT
BEGIN:VEVENT
DTSTART;TZID=UTC:20240225T130000
DTEND;TZID=UTC:20240225T160000
DTSTAMP:20260419T212308
CREATED:20240217T012228Z
LAST-MODIFIED:20240217T012228Z
UID:2850-1708866000-1708876800@winonaarts.org
SUMMARY:Gallery Open
DESCRIPTION:
URL:https://winonaarts.org/event/gallery-open-4/
LOCATION:Winona Arts Center\, 228 East 5th Street\, Winona\, MN\, 55987\, United States
CATEGORIES:Gallery
END:VEVENT
BEGIN:VEVENT
DTSTART;TZID=UTC:20240221T150000
DTEND;TZID=UTC:20240221T180000
DTSTAMP:20260419T212308
CREATED:20240217T012011Z
LAST-MODIFIED:20240217T012042Z
UID:2844-1708527600-1708538400@winonaarts.org
SUMMARY:Gallery Open
DESCRIPTION:
URL:https://winonaarts.org/event/gallery-open/
LOCATION:Winona Arts Center\, 228 East 5th Street\, Winona\, MN\, 55987\, United States
CATEGORIES:Gallery
END:VEVENT
BEGIN:VEVENT
DTSTART;TZID=UTC:20240218T130000
DTEND;TZID=UTC:20240218T160000
DTSTAMP:20260419T212308
CREATED:20240217T012200Z
LAST-MODIFIED:20240217T012200Z
UID:2848-1708261200-1708272000@winonaarts.org
SUMMARY:Gallery Open
DESCRIPTION:
URL:https://winonaarts.org/event/gallery-open-3/
LOCATION:Winona Arts Center\, 228 East 5th Street\, Winona\, MN\, 55987\, United States
CATEGORIES:Gallery
END:VEVENT
END:VCALENDAR