BEGIN:VCALENDAR
VERSION:2.0
PRODID:-//Winona Arts Center - ECPv6.15.20//NONSGML v1.0//EN
CALSCALE:GREGORIAN
METHOD:PUBLISH
X-ORIGINAL-URL:https://winonaarts.org
X-WR-CALDESC:Events for Winona Arts Center
REFRESH-INTERVAL;VALUE=DURATION:PT1H
X-Robots-Tag:noindex
X-PUBLISHED-TTL:PT1H
BEGIN:VTIMEZONE
TZID:UTC
BEGIN:STANDARD
TZOFFSETFROM:+0000
TZOFFSETTO:+0000
TZNAME:UTC
DTSTART:20230101T000000
END:STANDARD
END:VTIMEZONE
BEGIN:VEVENT
DTSTART;TZID=UTC:20240225T160000
DTEND;TZID=UTC:20240225T180000
DTSTAMP:20260423T062051
CREATED:20240217T004430Z
LAST-MODIFIED:20240217T004430Z
UID:2787-1708876800-1708884000@winonaarts.org
SUMMARY:Estro-Jam Session
DESCRIPTION:2nd and 4th Sundays / 4:00pm-6:00pm\nWomen of all ages are invited to join in the Estro-Jam sessions on the 2nd and 4th Sunday of the month from 4 pm to 6 pm in the gallery of the Winona Arts Center. Bring your instrument and gather with other musicians for some spontaneous musical collaboration. For more information\, contact Kristen Young at kristendyoung@comcast.net. \nThis activity is made possible by the voters of Minnesota through a grant from the Southeast Minnesota Arts Council thanks to a legislative appropriation from the arts and cultural heritage fund.
URL:https://winonaarts.org/event/estro-jam-session-3/
LOCATION:Winona Arts Center\, 228 East 5th Street\, Winona\, MN\, 55987\, United States
CATEGORIES:Estro-Jam Session
ATTACH;FMTTYPE=image/png:https://winonaarts.org/wp-content/uploads/2024/02/ESTR0-JAM-Poster-2-copy.png
END:VEVENT
END:VCALENDAR