BEGIN:VCALENDAR
VERSION:2.0
PRODID:-//Winona Arts Center - ECPv6.15.20//NONSGML v1.0//EN
CALSCALE:GREGORIAN
METHOD:PUBLISH
X-WR-CALNAME:Winona Arts Center
X-ORIGINAL-URL:https://winonaarts.org
X-WR-CALDESC:Events for Winona Arts Center
REFRESH-INTERVAL;VALUE=DURATION:PT1H
X-Robots-Tag:noindex
X-PUBLISHED-TTL:PT1H
BEGIN:VTIMEZONE
TZID:UTC
BEGIN:STANDARD
TZOFFSETFROM:+0000
TZOFFSETTO:+0000
TZNAME:UTC
DTSTART:20230101T000000
END:STANDARD
END:VTIMEZONE
BEGIN:VEVENT
DTSTART;TZID=UTC:20240310T160000
DTEND;TZID=UTC:20240310T180000
DTSTAMP:20260423T044206
CREATED:20240217T004652Z
LAST-MODIFIED:20240217T004652Z
UID:2791-1710086400-1710093600@winonaarts.org
SUMMARY:Estro-Jam Session
DESCRIPTION:2nd and 4th Sundays / 4:00pm-6:00pm\nWomen of all ages are invited to join in the Estro-Jam sessions on the 2nd and 4th Sunday of the month from 4 pm to 6 pm in the gallery of the Winona Arts Center. Bring your instrument and gather with other musicians for some spontaneous musical collaboration. For more information\, contact Kristen Young at kristendyoung@comcast.net. \nThis activity is made possible by the voters of Minnesota through a grant from the Southeast Minnesota Arts Council thanks to a legislative appropriation from the arts and cultural heritage fund.
URL:https://winonaarts.org/event/estro-jam-session-4/
LOCATION:Winona Arts Center\, 228 East 5th Street\, Winona\, MN\, 55987\, United States
CATEGORIES:Estro-Jam Session
ATTACH;FMTTYPE=image/png:https://winonaarts.org/wp-content/uploads/2024/02/ESTR0-JAM-Poster-2-copy.png
END:VEVENT
BEGIN:VEVENT
DTSTART;TZID=UTC:20240310T160000
DTEND;TZID=UTC:20240310T190000
DTSTAMP:20260423T044206
CREATED:20240224T040647Z
LAST-MODIFIED:20240224T040849Z
UID:3057-1710086400-1710097200@winonaarts.org
SUMMARY:Estro-Jam Hootenanny and Potluck
DESCRIPTION:Come celebrate an almost year of The Winona Estro-Jam! March 10\, 2024 from 4:00-7:00 pm. Bring a dish to share\, voice to sing\, an instrument to play or ears to listen. Winona Estro-Jam is a free gathering where women can come and learn how to sing & play music with other people. Designed to encourage more women to explore jam circles in the region but men are welcomed too. \nBeginners are especially encouraged. \nThis event is made possible by the voters of Minnesota through a grant from the Southeast Minnesota Arts Council thanks to a legislative appropriation from the Arts and Cultural Heritage Fund.  If you have questions about this event please contact Kristen Young at banjoit@me.com
URL:https://winonaarts.org/event/estr%e2%99%80-jam-hootenanny-and-potluck/
LOCATION:Winona Arts Center\, 228 East 5th Street\, Winona\, MN\, 55987\, United States
CATEGORIES:Estro-Jam Session,Events
ATTACH;FMTTYPE=image/png:https://winonaarts.org/wp-content/uploads/2024/02/estro-jam-poster-sm-e1708726122853.png
END:VEVENT
BEGIN:VEVENT
DTSTART;TZID=UTC:20240318T180000
DTEND;TZID=UTC:20240318T200000
DTSTAMP:20260423T044206
CREATED:20240217T005741Z
LAST-MODIFIED:20240217T005741Z
UID:2808-1710784800-1710792000@winonaarts.org
SUMMARY:Drum Circle
DESCRIPTION:
URL:https://winonaarts.org/event/drum-circle-9/
LOCATION:Winona Arts Center\, 228 East 5th Street\, Winona\, MN\, 55987\, United States
CATEGORIES:Estro-Jam Session
END:VEVENT
BEGIN:VEVENT
DTSTART;TZID=UTC:20240324T160000
DTEND;TZID=UTC:20240324T180000
DTSTAMP:20260423T044206
CREATED:20240217T004757Z
LAST-MODIFIED:20240217T004757Z
UID:2793-1711296000-1711303200@winonaarts.org
SUMMARY:Estro-Jam Session
DESCRIPTION:2nd and 4th Sundays / 4:00pm-6:00pm\nWomen of all ages are invited to join in the Estro-Jam sessions on the 2nd and 4th Sunday of the month from 4 pm to 6 pm in the gallery of the Winona Arts Center. Bring your instrument and gather with other musicians for some spontaneous musical collaboration. For more information\, contact Kristen Young at kristendyoung@comcast.net. \nThis activity is made possible by the voters of Minnesota through a grant from the Southeast Minnesota Arts Council thanks to a legislative appropriation from the arts and cultural heritage fund.
URL:https://winonaarts.org/event/estro-jam-session-5/
LOCATION:Winona Arts Center\, 228 East 5th Street\, Winona\, MN\, 55987\, United States
CATEGORIES:Estro-Jam Session
ATTACH;FMTTYPE=image/png:https://winonaarts.org/wp-content/uploads/2024/02/ESTR0-JAM-Poster-2-copy.png
END:VEVENT
END:VCALENDAR