BEGIN:VCALENDAR
VERSION:2.0
PRODID:-//Winona Arts Center - ECPv6.15.20//NONSGML v1.0//EN
CALSCALE:GREGORIAN
METHOD:PUBLISH
X-ORIGINAL-URL:https://winonaarts.org
X-WR-CALDESC:Events for Winona Arts Center
REFRESH-INTERVAL;VALUE=DURATION:PT1H
X-Robots-Tag:noindex
X-PUBLISHED-TTL:PT1H
BEGIN:VTIMEZONE
TZID:America/Chicago
BEGIN:DAYLIGHT
TZOFFSETFROM:-0600
TZOFFSETTO:-0500
TZNAME:CDT
DTSTART:20250309T080000
END:DAYLIGHT
BEGIN:STANDARD
TZOFFSETFROM:-0500
TZOFFSETTO:-0600
TZNAME:CST
DTSTART:20251102T070000
END:STANDARD
BEGIN:DAYLIGHT
TZOFFSETFROM:-0600
TZOFFSETTO:-0500
TZNAME:CDT
DTSTART:20260308T080000
END:DAYLIGHT
BEGIN:STANDARD
TZOFFSETFROM:-0500
TZOFFSETTO:-0600
TZNAME:CST
DTSTART:20261101T070000
END:STANDARD
BEGIN:DAYLIGHT
TZOFFSETFROM:-0600
TZOFFSETTO:-0500
TZNAME:CDT
DTSTART:20270314T080000
END:DAYLIGHT
BEGIN:STANDARD
TZOFFSETFROM:-0500
TZOFFSETTO:-0600
TZNAME:CST
DTSTART:20271107T070000
END:STANDARD
END:VTIMEZONE
BEGIN:VEVENT
DTSTART;TZID=America/Chicago:20260412T183000
DTEND;TZID=America/Chicago:20260412T200000
DTSTAMP:20260422T194917
CREATED:20260222T232531Z
LAST-MODIFIED:20260325T045146Z
UID:5410-1776018600-1776024000@winonaarts.org
SUMMARY:Drum Circle
DESCRIPTION:
URL:https://winonaarts.org/event/drum-circle-83/
LOCATION:Winona Arts Center\, 228 East 5th Street\, Winona\, MN\, 55987\, United States
CATEGORIES:Drum Circle
END:VEVENT
BEGIN:VEVENT
DTSTART;TZID=America/Chicago:20260420T180000
DTEND;TZID=America/Chicago:20260420T193000
DTSTAMP:20260422T194917
CREATED:20260222T232601Z
LAST-MODIFIED:20260325T045114Z
UID:5412-1776708000-1776713400@winonaarts.org
SUMMARY:Drum Circle
DESCRIPTION:
URL:https://winonaarts.org/event/drum-circle-84/
LOCATION:Winona Arts Center\, 228 East 5th Street\, Winona\, MN\, 55987\, United States
CATEGORIES:Drum Circle
END:VEVENT
BEGIN:VEVENT
DTSTART;TZID=America/Chicago:20260426T183000
DTEND;TZID=America/Chicago:20260426T200000
DTSTAMP:20260422T194917
CREATED:20260222T232634Z
LAST-MODIFIED:20260325T045232Z
UID:5414-1777228200-1777233600@winonaarts.org
SUMMARY:Drum Circle
DESCRIPTION:
URL:https://winonaarts.org/event/drum-circle-85/
LOCATION:Winona Arts Center\, 228 East 5th Street\, Winona\, MN\, 55987\, United States
CATEGORIES:Drum Circle
END:VEVENT
BEGIN:VEVENT
DTSTART;TZID=America/Chicago:20260504T180000
DTEND;TZID=America/Chicago:20260504T200000
DTSTAMP:20260422T194917
CREATED:20260222T232728Z
LAST-MODIFIED:20260222T232728Z
UID:5416-1777917600-1777924800@winonaarts.org
SUMMARY:Drum Circle
DESCRIPTION:
URL:https://winonaarts.org/event/drum-circle-86/
LOCATION:Winona Arts Center\, 228 East 5th Street\, Winona\, MN\, 55987\, United States
CATEGORIES:Drum Circle
END:VEVENT
BEGIN:VEVENT
DTSTART;TZID=America/Chicago:20260511T180000
DTEND;TZID=America/Chicago:20260511T200000
DTSTAMP:20260422T194917
CREATED:20260222T232756Z
LAST-MODIFIED:20260222T232756Z
UID:5418-1778522400-1778529600@winonaarts.org
SUMMARY:Drum Circle
DESCRIPTION:
URL:https://winonaarts.org/event/drum-circle-87/
LOCATION:Winona Arts Center\, 228 East 5th Street\, Winona\, MN\, 55987\, United States
CATEGORIES:Drum Circle
END:VEVENT
BEGIN:VEVENT
DTSTART;TZID=America/Chicago:20260518T180000
DTEND;TZID=America/Chicago:20260518T200000
DTSTAMP:20260422T194917
CREATED:20260222T232850Z
LAST-MODIFIED:20260222T232850Z
UID:5420-1779127200-1779134400@winonaarts.org
SUMMARY:Drum Circle
DESCRIPTION:
URL:https://winonaarts.org/event/drum-circle-88/
LOCATION:Winona Arts Center\, 228 East 5th Street\, Winona\, MN\, 55987\, United States
CATEGORIES:Drum Circle
END:VEVENT
END:VCALENDAR