BEGIN:VCALENDAR
VERSION:2.0
PRODID:-//Winona Arts Center - ECPv6.15.20//NONSGML v1.0//EN
CALSCALE:GREGORIAN
METHOD:PUBLISH
X-ORIGINAL-URL:https://winonaarts.org
X-WR-CALDESC:Events for Winona Arts Center
REFRESH-INTERVAL;VALUE=DURATION:PT1H
X-Robots-Tag:noindex
X-PUBLISHED-TTL:PT1H
BEGIN:VTIMEZONE
TZID:America/Chicago
BEGIN:DAYLIGHT
TZOFFSETFROM:-0600
TZOFFSETTO:-0500
TZNAME:CDT
DTSTART:20250309T080000
END:DAYLIGHT
BEGIN:STANDARD
TZOFFSETFROM:-0500
TZOFFSETTO:-0600
TZNAME:CST
DTSTART:20251102T070000
END:STANDARD
BEGIN:DAYLIGHT
TZOFFSETFROM:-0600
TZOFFSETTO:-0500
TZNAME:CDT
DTSTART:20260308T080000
END:DAYLIGHT
BEGIN:STANDARD
TZOFFSETFROM:-0500
TZOFFSETTO:-0600
TZNAME:CST
DTSTART:20261101T070000
END:STANDARD
BEGIN:DAYLIGHT
TZOFFSETFROM:-0600
TZOFFSETTO:-0500
TZNAME:CDT
DTSTART:20270314T080000
END:DAYLIGHT
BEGIN:STANDARD
TZOFFSETFROM:-0500
TZOFFSETTO:-0600
TZNAME:CST
DTSTART:20271107T070000
END:STANDARD
END:VTIMEZONE
BEGIN:VEVENT
DTSTART;TZID=America/Chicago:20260302T180000
DTEND;TZID=America/Chicago:20260302T193000
DTSTAMP:20260420T071542
CREATED:20260222T232137Z
LAST-MODIFIED:20260303T175450Z
UID:5398-1772474400-1772479800@winonaarts.org
SUMMARY:Drum Circle
DESCRIPTION:
URL:https://winonaarts.org/event/drum-circle-77/
LOCATION:Winona Arts Center\, 228 East 5th Street\, Winona\, MN\, 55987\, United States
CATEGORIES:Drum Circle
END:VEVENT
BEGIN:VEVENT
DTSTART;TZID=America/Chicago:20260308T183000
DTEND;TZID=America/Chicago:20260308T200000
DTSTAMP:20260420T071542
CREATED:20260222T232221Z
LAST-MODIFIED:20260303T175208Z
UID:5400-1772994600-1773000000@winonaarts.org
SUMMARY:Drum Circle
DESCRIPTION:
URL:https://winonaarts.org/event/drum-circle-78/
LOCATION:Winona Arts Center\, 228 East 5th Street\, Winona\, MN\, 55987\, United States
CATEGORIES:Drum Circle
END:VEVENT
BEGIN:VEVENT
DTSTART;TZID=America/Chicago:20260316T180000
DTEND;TZID=America/Chicago:20260316T193000
DTSTAMP:20260420T071542
CREATED:20260222T232255Z
LAST-MODIFIED:20260303T175521Z
UID:5402-1773684000-1773689400@winonaarts.org
SUMMARY:Drum Circle
DESCRIPTION:
URL:https://winonaarts.org/event/drum-circle-79/
LOCATION:Winona Arts Center\, 228 East 5th Street\, Winona\, MN\, 55987\, United States
CATEGORIES:Drum Circle
END:VEVENT
BEGIN:VEVENT
DTSTART;TZID=America/Chicago:20260322T183000
DTEND;TZID=America/Chicago:20260322T200000
DTSTAMP:20260420T071542
CREATED:20260222T232327Z
LAST-MODIFIED:20260303T175419Z
UID:5404-1774204200-1774209600@winonaarts.org
SUMMARY:Drum Circle
DESCRIPTION:
URL:https://winonaarts.org/event/drum-circle-80/
LOCATION:Winona Arts Center\, 228 East 5th Street\, Winona\, MN\, 55987\, United States
CATEGORIES:Drum Circle
END:VEVENT
BEGIN:VEVENT
DTSTART;TZID=America/Chicago:20260330T180000
DTEND;TZID=America/Chicago:20260330T193000
DTSTAMP:20260420T071542
CREATED:20260222T232430Z
LAST-MODIFIED:20260303T175603Z
UID:5406-1774893600-1774899000@winonaarts.org
SUMMARY:Drum Circle
DESCRIPTION:
URL:https://winonaarts.org/event/drum-circle-81/
LOCATION:Winona Arts Center\, 228 East 5th Street\, Winona\, MN\, 55987\, United States
CATEGORIES:Drum Circle
END:VEVENT
END:VCALENDAR