BEGIN:VCALENDAR
VERSION:2.0
PRODID:-//Winona Arts Center - ECPv6.15.20//NONSGML v1.0//EN
CALSCALE:GREGORIAN
METHOD:PUBLISH
X-WR-CALNAME:Winona Arts Center
X-ORIGINAL-URL:https://winonaarts.org
X-WR-CALDESC:Events for Winona Arts Center
REFRESH-INTERVAL;VALUE=DURATION:PT1H
X-Robots-Tag:noindex
X-PUBLISHED-TTL:PT1H
BEGIN:VTIMEZONE
TZID:UTC
BEGIN:STANDARD
TZOFFSETFROM:+0000
TZOFFSETTO:+0000
TZNAME:UTC
DTSTART:20230101T000000
END:STANDARD
END:VTIMEZONE
BEGIN:VEVENT
DTSTART;TZID=UTC:20240319T173000
DTEND;TZID=UTC:20240319T203000
DTSTAMP:20260420T170053
CREATED:20240218T032828Z
LAST-MODIFIED:20240218T032929Z
UID:2932-1710869400-1710880200@winonaarts.org
SUMMARY:2024 WAC Spring Benefit Dinner at the Blue Heron
DESCRIPTION:Winona Art Center invites you to our 2024 Spring Benefit Dinner\nMarch 19\, 2024\nBlue Heron Coffeehouse\n162 West 2nd St\nWinona\, MN \nHappy hour with wine & beer\nBrowse the silent auction 5:30pm—6:15pm\n5 course Mediterranean meal served at 6:30pm—8:30pm\nCost: $85/per person ($40 of ticket price is a tax deductible donation)\nMeat\, vegetarian\, vegan\, and gluten free options available.\nAll proceeds go to scholarships for art classes and maintenance of our historic building.\nTo make your reservation go to http://winonaarts.org/reservation-form/\nReservations close on March 5th for lead time for Blue Heron.
URL:https://winonaarts.org/event/2024-wac-spring-benefit-dinner-at-the-blue-heron/
LOCATION:Blue Heron\, 162 W 2nd St\, Winona\, MN\, 55987\, United States
CATEGORIES:Benefit
ATTACH;FMTTYPE=image/png:https://winonaarts.org/wp-content/uploads/2024/02/Blue-Heron-Benefit-Dinner-Postcard-QRCode-website-e1708205783694.png
END:VEVENT
END:VCALENDAR