BEGIN:VCALENDAR
VERSION:2.0
PRODID:-//Winona Arts Center - ECPv6.15.20//NONSGML v1.0//EN
CALSCALE:GREGORIAN
METHOD:PUBLISH
X-WR-CALNAME:Winona Arts Center
X-ORIGINAL-URL:https://winonaarts.org
X-WR-CALDESC:Events for Winona Arts Center
REFRESH-INTERVAL;VALUE=DURATION:PT1H
X-Robots-Tag:noindex
X-PUBLISHED-TTL:PT1H
BEGIN:VTIMEZONE
TZID:America/Chicago
BEGIN:DAYLIGHT
TZOFFSETFROM:-0600
TZOFFSETTO:-0500
TZNAME:CDT
DTSTART:20240310T080000
END:DAYLIGHT
BEGIN:STANDARD
TZOFFSETFROM:-0500
TZOFFSETTO:-0600
TZNAME:CST
DTSTART:20241103T070000
END:STANDARD
BEGIN:DAYLIGHT
TZOFFSETFROM:-0600
TZOFFSETTO:-0500
TZNAME:CDT
DTSTART:20250309T080000
END:DAYLIGHT
BEGIN:STANDARD
TZOFFSETFROM:-0500
TZOFFSETTO:-0600
TZNAME:CST
DTSTART:20251102T070000
END:STANDARD
BEGIN:DAYLIGHT
TZOFFSETFROM:-0600
TZOFFSETTO:-0500
TZNAME:CDT
DTSTART:20260308T080000
END:DAYLIGHT
BEGIN:STANDARD
TZOFFSETFROM:-0500
TZOFFSETTO:-0600
TZNAME:CST
DTSTART:20261101T070000
END:STANDARD
END:VTIMEZONE
BEGIN:VEVENT
DTSTART;TZID=America/Chicago:20251207T130000
DTEND;TZID=America/Chicago:20251207T160000
DTSTAMP:20260422T095732
CREATED:20251130T164423Z
LAST-MODIFIED:20251202T045455Z
UID:5146-1765112400-1765123200@winonaarts.org
SUMMARY:Exhibit Opening: Foundations–Art by the Drawing Foundations Workshop at Winona Arts Center
DESCRIPTION:FOUNDATIONS–ART BY THE DRAWING FOUNDATIONS WORKSHOP AT WINONA ARTS CENTER \nOPENING RECEPTION: SUNDAY / DECEMBER 7 / 1:00PM – 4:00PM \nARTIST TALK WITH ANDY KRANZ: 2:00PM \nON DISPLAY THROUGH JANUARY 11\, 2026 \nThe Drawing Foundations workshop series (created by Andy Kranz through a grant funded by SEMAC) invites you to a special gallery opening. Ten emerging artists from the community spent October exploring drawing techniques\, composition fundamentals\, and expanding their artistic vocabulary. Please join us in viewing the diverse range of artwork created during the workshop series and to celebrate the growth and creativity of our neighbors. \n \nThis activity is made possible by the voters of Minnesota through a grant from the Southeastern Minnesota Arts Council thanks to alegislative appropriation from the arts & cultural heritage fund. 
URL:https://winonaarts.org/event/exhibit-opening-foundations-art-by-the-drawing-foundations-workshop-at-winona-arts-center-2/
LOCATION:Winona Arts Center\, 228 East 5th Street\, Winona\, MN\, 55987\, United States
CATEGORIES:Artists' Event,Gallery
ATTACH;FMTTYPE=image/jpeg:https://winonaarts.org/wp-content/uploads/2025/11/Oliver1-scaled.jpg
END:VEVENT
END:VCALENDAR