BEGIN:VCALENDAR
VERSION:2.0
PRODID:-//Winona Arts Center - ECPv6.15.20//NONSGML v1.0//EN
CALSCALE:GREGORIAN
METHOD:PUBLISH
X-WR-CALNAME:Winona Arts Center
X-ORIGINAL-URL:https://winonaarts.org
X-WR-CALDESC:Events for Winona Arts Center
REFRESH-INTERVAL;VALUE=DURATION:PT1H
X-Robots-Tag:noindex
X-PUBLISHED-TTL:PT1H
BEGIN:VTIMEZONE
TZID:UTC
BEGIN:STANDARD
TZOFFSETFROM:+0000
TZOFFSETTO:+0000
TZNAME:UTC
DTSTART:20200101T000000
END:STANDARD
END:VTIMEZONE
BEGIN:VEVENT
DTSTART;TZID=UTC:20210918T180000
DTEND;TZID=UTC:20210918T203000
DTSTAMP:20260419T101337
CREATED:20210811T203032Z
LAST-MODIFIED:20210823T031133Z
UID:115-1631988000-1631997000@winonaarts.org
SUMMARY:Art in the Time of Covid Performance
DESCRIPTION:Coffeehouse opens at 6pm. Performance begins at 7pm.
URL:https://winonaarts.org/event/art-time-of-covid-performance/
LOCATION:Winona Arts Center\, 228 East 5th Street\, Winona\, MN\, 55987\, United States
CATEGORIES:Art in the Time of Covid
END:VEVENT
BEGIN:VEVENT
DTSTART;TZID=UTC:20210912T183000
DTEND;TZID=UTC:20210912T183000
DTSTAMP:20260419T101337
CREATED:20210823T030906Z
LAST-MODIFIED:20210823T031819Z
UID:164-1631471400-1631471400@winonaarts.org
SUMMARY:Winona Unmasked
DESCRIPTION:Presentation of Mary Farrell’s film Winona Unmasked following the grand re-opening and Art in the Time of Covid exhibit opening.
URL:https://winonaarts.org/event/winona-unmasked/
LOCATION:Winona Arts Center\, 228 East 5th Street\, Winona\, MN\, 55987\, United States
CATEGORIES:Art in the Time of Covid,Film
END:VEVENT
BEGIN:VEVENT
DTSTART;TZID=UTC:20210912T150000
DTEND;TZID=UTC:20210912T180000
DTSTAMP:20260419T101337
CREATED:20210811T202950Z
LAST-MODIFIED:20210811T202950Z
UID:113-1631458800-1631469600@winonaarts.org
SUMMARY:Art in the Time of Covid Opening Reception
DESCRIPTION:
URL:https://winonaarts.org/event/art-in-the-time-of-covid-opening-reception/
LOCATION:Winona Arts Center\, 228 East 5th Street\, Winona\, MN\, 55987\, United States
CATEGORIES:Art in the Time of Covid
END:VEVENT
BEGIN:VEVENT
DTSTART;VALUE=DATE:20210912
DTEND;VALUE=DATE:20211111
DTSTAMP:20260419T101337
CREATED:20210811T200208Z
LAST-MODIFIED:20210811T234042Z
UID:103-1631404800-1636588799@winonaarts.org
SUMMARY:Art in the Time of Covid Exhibit
DESCRIPTION:
URL:https://winonaarts.org/event/art-in-the-time-of-covid-exhibit/
LOCATION:Winona Arts Center\, 228 East 5th Street\, Winona\, MN\, 55987\, United States
CATEGORIES:Art in the Time of Covid
END:VEVENT
BEGIN:VEVENT
DTSTART;TZID=UTC:20210902T160000
DTEND;TZID=UTC:20210902T180000
DTSTAMP:20260419T101337
CREATED:20210811T202851Z
LAST-MODIFIED:20210811T202851Z
UID:111-1630598400-1630605600@winonaarts.org
SUMMARY:Art in the Time of Covid Visual Art Work Drop Off
DESCRIPTION:
URL:https://winonaarts.org/event/art-in-the-time-of-covid-visual-art-work-drop-off-2/
LOCATION:Winona Arts Center\, 228 East 5th Street\, Winona\, MN\, 55987\, United States
CATEGORIES:Art in the Time of Covid
END:VEVENT
BEGIN:VEVENT
DTSTART;TZID=UTC:20210901T160000
DTEND;TZID=UTC:20210901T180000
DTSTAMP:20260419T101337
CREATED:20210811T202755Z
LAST-MODIFIED:20210811T202755Z
UID:109-1630512000-1630519200@winonaarts.org
SUMMARY:Art in the Time of Covid Visual Art Work Drop Off
DESCRIPTION:
URL:https://winonaarts.org/event/art-in-the-time-of-covid-visual-art-work-drop-off/
LOCATION:Winona Arts Center\, 228 East 5th Street\, Winona\, MN\, 55987\, United States
CATEGORIES:Art in the Time of Covid
END:VEVENT
END:VCALENDAR