BEGIN:VCALENDAR
VERSION:2.0
PRODID:-//Winona Arts Center - ECPv6.15.20//NONSGML v1.0//EN
CALSCALE:GREGORIAN
METHOD:PUBLISH
X-WR-CALNAME:Winona Arts Center
X-ORIGINAL-URL:https://winonaarts.org
X-WR-CALDESC:Events for Winona Arts Center
REFRESH-INTERVAL;VALUE=DURATION:PT1H
X-Robots-Tag:noindex
X-PUBLISHED-TTL:PT1H
BEGIN:VTIMEZONE
TZID:UTC
BEGIN:STANDARD
TZOFFSETFROM:+0000
TZOFFSETTO:+0000
TZNAME:UTC
DTSTART:20200101T000000
END:STANDARD
END:VTIMEZONE
BEGIN:VEVENT
DTSTART;TZID=UTC:20210901T160000
DTEND;TZID=UTC:20210901T180000
DTSTAMP:20260423T022623
CREATED:20210811T202755Z
LAST-MODIFIED:20210811T202755Z
UID:109-1630512000-1630519200@winonaarts.org
SUMMARY:Art in the Time of Covid Visual Art Work Drop Off
DESCRIPTION:
URL:https://winonaarts.org/event/art-in-the-time-of-covid-visual-art-work-drop-off/
LOCATION:Winona Arts Center\, 228 East 5th Street\, Winona\, MN\, 55987\, United States
CATEGORIES:Art in the Time of Covid
END:VEVENT
END:VCALENDAR