BEGIN:VCALENDAR
VERSION:2.0
PRODID:-//Winona Arts Center - ECPv6.15.20//NONSGML v1.0//EN
CALSCALE:GREGORIAN
METHOD:PUBLISH
X-WR-CALNAME:Winona Arts Center
X-ORIGINAL-URL:https://winonaarts.org
X-WR-CALDESC:Events for Winona Arts Center
REFRESH-INTERVAL;VALUE=DURATION:PT1H
X-Robots-Tag:noindex
X-PUBLISHED-TTL:PT1H
BEGIN:VTIMEZONE
TZID:UTC
BEGIN:STANDARD
TZOFFSETFROM:+0000
TZOFFSETTO:+0000
TZNAME:UTC
DTSTART:20210101T000000
END:STANDARD
END:VTIMEZONE
BEGIN:VEVENT
DTSTART;TZID=UTC:20221021T190000
DTEND;TZID=UTC:20221021T210000
DTSTAMP:20260423T061835
CREATED:20220826T061749Z
LAST-MODIFIED:20220826T061749Z
UID:1458-1666378800-1666386000@winonaarts.org
SUMMARY:The Road to Mandalay
DESCRIPTION:Friday / October 21\, 2022 / 7:00pm\nCoffeehouse and Gallery open at 6:00 pm\nChinese\, Burmese\, and Thai with English subtitles. 108 minutes. \nDirected by Midi Z. 2016. \nBurmese immigrants sneak into Thailand on a well trafficked route across the Mekong River down quiet roads and past bribed checkpoints. Along this treacherous path to Bangkok\, Ilan Qing and Guo meet and their fates become entwined. After finding work\, the couple focuses their efforts on acquiring fake identity papers but when trouble ensues\, their relationship becomes threatened. Reviews call this film “emotionally rewarding.”
URL:https://winonaarts.org/event/the-road-to-mandalay/
LOCATION:Winona Arts Center\, 228 East 5th Street\, Winona\, MN\, 55987\, United States
CATEGORIES:60th Anniversary,Film
END:VEVENT
END:VCALENDAR