BEGIN:VCALENDAR
VERSION:2.0
PRODID:-//Winona Arts Center - ECPv6.15.20//NONSGML v1.0//EN
CALSCALE:GREGORIAN
METHOD:PUBLISH
X-ORIGINAL-URL:https://winonaarts.org
X-WR-CALDESC:Events for Winona Arts Center
REFRESH-INTERVAL;VALUE=DURATION:PT1H
X-Robots-Tag:noindex
X-PUBLISHED-TTL:PT1H
BEGIN:VTIMEZONE
TZID:UTC
BEGIN:STANDARD
TZOFFSETFROM:+0000
TZOFFSETTO:+0000
TZNAME:UTC
DTSTART:20210101T000000
END:STANDARD
END:VTIMEZONE
BEGIN:VEVENT
DTSTART;TZID=UTC:20221008T190000
DTEND;TZID=UTC:20221008T210000
DTSTAMP:20260423T062156
CREATED:20220826T063214Z
LAST-MODIFIED:20220923T065456Z
UID:1463-1665255600-1665262800@winonaarts.org
SUMMARY:Radoslav Lorković
DESCRIPTION:Saturday /October 8\, 2022 / 7:00pm\nCoffeehouse and Gallery open at 6:00pm\nBuy Tickets Online\nDrawing from a multitude of influences ranging from elegant classical and jazz styles to the rawest\, most basic blues\, country and soul\, Radoslav Lorković has taken on an unusually broad musical spectrum and refined it into his distinctive piano style. His tenure on the R&B and folk circuits has culminated in five critically acclaimed solo recordings and numerous appearances on the recordings of and performances with artists including Odetta\, Jimmy LaFave\, Ribbon of Highway Woody Guthrie Tribute\, Greg Brown\, Richard Shindell\, Ellis Paul\, Ronny Cox\, Dave Moore\, Andy White\, and Bo Ramsey. His thirty year touring career has led him from the taverns of the upper Mississippi River to the castles of Italy\, the Canary Islands\, the Yup’ik villages of Alaska\, the Kennedy Center\, and Carnegie Hall. \nThis concert is underwritten by Paul Schollmeier and Efficiency Directives. \nTickets are $20 in advance or $25 at the door. Tickets are available through Eventbrite or Hardts Music\, 115 East 3rd St in Winona.
URL:https://winonaarts.org/event/radoslav-lorkovic/
LOCATION:Winona Arts Center\, 228 East 5th Street\, Winona\, MN\, 55987\, United States
CATEGORIES:60th Anniversary,Concert
END:VEVENT
END:VCALENDAR