BEGIN:VCALENDAR
VERSION:2.0
PRODID:-//Winona Arts Center - ECPv6.15.20//NONSGML v1.0//EN
CALSCALE:GREGORIAN
METHOD:PUBLISH
X-WR-CALNAME:Winona Arts Center
X-ORIGINAL-URL:https://winonaarts.org
X-WR-CALDESC:Events for Winona Arts Center
REFRESH-INTERVAL;VALUE=DURATION:PT1H
X-Robots-Tag:noindex
X-PUBLISHED-TTL:PT1H
BEGIN:VTIMEZONE
TZID:UTC
BEGIN:STANDARD
TZOFFSETFROM:+0000
TZOFFSETTO:+0000
TZNAME:UTC
DTSTART:20210101T000000
END:STANDARD
END:VTIMEZONE
BEGIN:VEVENT
DTSTART;TZID=UTC:20220930T190000
DTEND;TZID=UTC:20220930T203000
DTSTAMP:20260423T061950
CREATED:20220826T054715Z
LAST-MODIFIED:20220826T055017Z
UID:1347-1664564400-1664569800@winonaarts.org
SUMMARY:Strictly Ballroom
DESCRIPTION:Friday / September 30\, 2022 / 7:00pm\nCoffeehouse and Gallery open at 6:00 pm\nEnglish. 95 minutes. \nDirected by Baz Luhrmann. 1992. \nFrom director Baz Luhrmann (Moulin Rouge\, Elvis) comes the hit hilarious romantic comedy that will leave you laughing and cheering for more. This is the magical story of a championship ballroom dancer who will stop at nothing to win\, even if it means rewriting the rules. With a great soundtrack and incredible dance sequences\, this feel-good film will dance straight to your heart.
URL:https://winonaarts.org/event/strictly-ballroom/
LOCATION:Winona Arts Center\, 228 East 5th Street\, Winona\, MN\, 55987\, United States
CATEGORIES:60th Anniversary,Film
END:VEVENT
END:VCALENDAR