BEGIN:VCALENDAR
VERSION:2.0
PRODID:-//Winona Arts Center - ECPv6.15.20//NONSGML v1.0//EN
CALSCALE:GREGORIAN
METHOD:PUBLISH
X-WR-CALNAME:Winona Arts Center
X-ORIGINAL-URL:https://winonaarts.org
X-WR-CALDESC:Events for Winona Arts Center
REFRESH-INTERVAL;VALUE=DURATION:PT1H
X-Robots-Tag:noindex
X-PUBLISHED-TTL:PT1H
BEGIN:VTIMEZONE
TZID:America/Chicago
BEGIN:DAYLIGHT
TZOFFSETFROM:-0600
TZOFFSETTO:-0500
TZNAME:CDT
DTSTART:20220313T080000
END:DAYLIGHT
BEGIN:STANDARD
TZOFFSETFROM:-0500
TZOFFSETTO:-0600
TZNAME:CST
DTSTART:20221106T070000
END:STANDARD
BEGIN:DAYLIGHT
TZOFFSETFROM:-0600
TZOFFSETTO:-0500
TZNAME:CDT
DTSTART:20230312T080000
END:DAYLIGHT
BEGIN:STANDARD
TZOFFSETFROM:-0500
TZOFFSETTO:-0600
TZNAME:CST
DTSTART:20231105T070000
END:STANDARD
BEGIN:DAYLIGHT
TZOFFSETFROM:-0600
TZOFFSETTO:-0500
TZNAME:CDT
DTSTART:20240310T080000
END:DAYLIGHT
BEGIN:STANDARD
TZOFFSETFROM:-0500
TZOFFSETTO:-0600
TZNAME:CST
DTSTART:20241103T070000
END:STANDARD
END:VTIMEZONE
BEGIN:VTIMEZONE
TZID:UTC
BEGIN:STANDARD
TZOFFSETFROM:+0000
TZOFFSETTO:+0000
TZNAME:UTC
DTSTART:20220101T000000
END:STANDARD
END:VTIMEZONE
BEGIN:VEVENT
DTSTART;TZID=America/Chicago:20230428T130000
DTEND;TZID=America/Chicago:20230428T150000
DTSTAMP:20260422T112410
CREATED:20230309T111142Z
LAST-MODIFIED:20230309T111530Z
UID:2101-1682686800-1682694000@winonaarts.org
SUMMARY:Watercolor Class with Faye Schoen
DESCRIPTION:Watercolor classes taught by Faye Schoen will be back in April. Dates for the classes are April 28\, 2023 from 1:00 to 3:00pm or April 29\, 2023 from 1:00 to 3:00pm. Watch for more details.
URL:https://winonaarts.org/event/watercolor-class-with-faye-schoen-4/
LOCATION:Winona Arts Center\, 228 East 5th Street\, Winona\, MN\, 55987\, United States
CATEGORIES:Classes
END:VEVENT
BEGIN:VEVENT
DTSTART;TZID=UTC:20230429T190000
DTEND;TZID=UTC:20230429T190000
DTSTAMP:20260422T112410
CREATED:20221222T045918Z
LAST-MODIFIED:20230216T053210Z
UID:1775-1682794800-1682794800@winonaarts.org
SUMMARY:Patchouli & Terra Guitarra
DESCRIPTION:The Landscape of Guitar: Animated Painting Concert Experience\nSaturday / April 29\, 2023 / 7:00pm\nCoffeehouse and Gallery open at 6:00pm\nBuy Tickets Online\nExperience the Spirit of the ’60’s & ’70’s\, the romance of the Spanish guitar\, and the colors of Van Gogh. \nThe Landscape of Guitar is a groundbreaking art & music production. Animated paintings are sung to life as guitar birds fly over rolling guitar rivers and vivid guitar worlds in stunning HD. #1 Charting International guitar duo Awarded “Best Instrumental Album of the Year” Patchouli & Terra Guitarra create a live symphony of color & sound to “inspire the human spirit” Chicago Tribune. www.patchouli.net. \nTickets are $20 in advance or $25 at the door. Tickets are available through Eventbrite or Hardt’s Music\, 115 East 3rd St in Winona.
URL:https://winonaarts.org/event/patchouli-terra-guitarra/
LOCATION:Winona Arts Center\, 228 East 5th Street\, Winona\, MN\, 55987\, United States
CATEGORIES:Concert
END:VEVENT
END:VCALENDAR