BEGIN:VCALENDAR
VERSION:2.0
PRODID:-//Winona Arts Center - ECPv6.15.20//NONSGML v1.0//EN
CALSCALE:GREGORIAN
METHOD:PUBLISH
X-ORIGINAL-URL:https://winonaarts.org
X-WR-CALDESC:Events for Winona Arts Center
REFRESH-INTERVAL;VALUE=DURATION:PT1H
X-Robots-Tag:noindex
X-PUBLISHED-TTL:PT1H
BEGIN:VTIMEZONE
TZID:UTC
BEGIN:STANDARD
TZOFFSETFROM:+0000
TZOFFSETTO:+0000
TZNAME:UTC
DTSTART:20220101T000000
END:STANDARD
END:VTIMEZONE
BEGIN:VEVENT
DTSTART;TZID=UTC:20230416T130000
DTEND;TZID=UTC:20230416T150000
DTSTAMP:20260421T131009
CREATED:20230216T053657Z
LAST-MODIFIED:20230309T095623Z
UID:2010-1681650000-1681657200@winonaarts.org
SUMMARY:Storytelling Workshop with Clare Murphy
DESCRIPTION:Presented by Sandbar Storytelling Festival\nSunday / April 16\, 2023 / 1:00-3:00pm\nRenowned storyteller\, performer\, teacher\, and artist Clare Murphy will kick off the Sandbar Storytelling Festival’s second season at 7:30 p.m. Saturday\, April 15\, with “Wild Irish Tales” at Saint Mary’s University’s Page Theatre. Additionally\, Murphy will lead a storytelling workshop at Winona Arts Center\, 5th and Franklin streets\, from 1 to 3 p.m. Sunday\, April 16. Participation is $15 and limited space is available. Tickets are available at sandbarstorytellingfestival.org.
URL:https://winonaarts.org/event/storytelling-workshop-with-clare-murphy/
LOCATION:Winona Arts Center\, 228 East 5th Street\, Winona\, MN\, 55987\, United States
CATEGORIES:Events
END:VEVENT
BEGIN:VEVENT
DTSTART;TZID=UTC:20230108T130000
DTEND;TZID=UTC:20230108T160000
DTSTAMP:20260421T131009
CREATED:20221230T051034Z
LAST-MODIFIED:20230511T203838Z
UID:1870-1673182800-1673193600@winonaarts.org
SUMMARY:Art Gallery Open During Exhibits
DESCRIPTION:
URL:https://winonaarts.org/event/art-gallery-open-during-exhibits-2/
LOCATION:Winona Arts Center\, 228 East 5th Street\, Winona\, MN\, 55987\, United States
CATEGORIES:Exhibits
END:VEVENT
END:VCALENDAR