BEGIN:VCALENDAR
VERSION:2.0
PRODID:-//Winona Arts Center - ECPv6.15.20//NONSGML v1.0//EN
CALSCALE:GREGORIAN
METHOD:PUBLISH
X-ORIGINAL-URL:https://winonaarts.org
X-WR-CALDESC:Events for Winona Arts Center
REFRESH-INTERVAL;VALUE=DURATION:PT1H
X-Robots-Tag:noindex
X-PUBLISHED-TTL:PT1H
BEGIN:VTIMEZONE
TZID:America/Chicago
BEGIN:DAYLIGHT
TZOFFSETFROM:-0600
TZOFFSETTO:-0500
TZNAME:CDT
DTSTART:20220313T080000
END:DAYLIGHT
BEGIN:STANDARD
TZOFFSETFROM:-0500
TZOFFSETTO:-0600
TZNAME:CST
DTSTART:20221106T070000
END:STANDARD
BEGIN:DAYLIGHT
TZOFFSETFROM:-0600
TZOFFSETTO:-0500
TZNAME:CDT
DTSTART:20230312T080000
END:DAYLIGHT
BEGIN:STANDARD
TZOFFSETFROM:-0500
TZOFFSETTO:-0600
TZNAME:CST
DTSTART:20231105T070000
END:STANDARD
BEGIN:DAYLIGHT
TZOFFSETFROM:-0600
TZOFFSETTO:-0500
TZNAME:CDT
DTSTART:20240310T080000
END:DAYLIGHT
BEGIN:STANDARD
TZOFFSETFROM:-0500
TZOFFSETTO:-0600
TZNAME:CST
DTSTART:20241103T070000
END:STANDARD
END:VTIMEZONE
BEGIN:VEVENT
DTSTART;TZID=America/Chicago:20230311T130000
DTEND;TZID=America/Chicago:20230311T150000
DTSTAMP:20260421T065011
CREATED:20230309T103923Z
LAST-MODIFIED:20230309T103923Z
UID:2095-1678539600-1678546800@winonaarts.org
SUMMARY:Crock-Tile Pottery Class with Richard Spiller
DESCRIPTION:Saturday / March 11\, 2023 / 1:00-3:00pm\nJoin Richard to design a crock and tile. Students will be given a bisque-fired pint crock and a 4-inch tile and will apply colored slips on the crock with clear glaze. The crocks and tiles will be fired at Spiller’s studio and returned at a later date. To register\, contact Jen Benson at jsbenson50@gmail.com. \nCost is $30 for members of WAC and $35 for non-members.
URL:https://winonaarts.org/event/crock-tile-pottery-class-with-richard-spiller/
LOCATION:Winona Arts Center\, 228 East 5th Street\, Winona\, MN\, 55987\, United States
CATEGORIES:Classes
END:VEVENT
END:VCALENDAR