BEGIN:VCALENDAR
VERSION:2.0
PRODID:-//Winona Arts Center - ECPv6.15.20//NONSGML v1.0//EN
CALSCALE:GREGORIAN
METHOD:PUBLISH
X-ORIGINAL-URL:https://winonaarts.org
X-WR-CALDESC:Events for Winona Arts Center
REFRESH-INTERVAL;VALUE=DURATION:PT1H
X-Robots-Tag:noindex
X-PUBLISHED-TTL:PT1H
BEGIN:VTIMEZONE
TZID:America/Chicago
BEGIN:DAYLIGHT
TZOFFSETFROM:-0600
TZOFFSETTO:-0500
TZNAME:CDT
DTSTART:20220313T080000
END:DAYLIGHT
BEGIN:STANDARD
TZOFFSETFROM:-0500
TZOFFSETTO:-0600
TZNAME:CST
DTSTART:20221106T070000
END:STANDARD
BEGIN:DAYLIGHT
TZOFFSETFROM:-0600
TZOFFSETTO:-0500
TZNAME:CDT
DTSTART:20230312T080000
END:DAYLIGHT
BEGIN:STANDARD
TZOFFSETFROM:-0500
TZOFFSETTO:-0600
TZNAME:CST
DTSTART:20231105T070000
END:STANDARD
BEGIN:DAYLIGHT
TZOFFSETFROM:-0600
TZOFFSETTO:-0500
TZNAME:CDT
DTSTART:20240310T080000
END:DAYLIGHT
BEGIN:STANDARD
TZOFFSETFROM:-0500
TZOFFSETTO:-0600
TZNAME:CST
DTSTART:20241103T070000
END:STANDARD
END:VTIMEZONE
BEGIN:VEVENT
DTSTART;TZID=America/Chicago:20230310T190000
DTEND;TZID=America/Chicago:20230310T190000
DTSTAMP:20260421T083458
CREATED:20230309T090537Z
LAST-MODIFIED:20230309T090537Z
UID:2085-1678474800-1678474800@winonaarts.org
SUMMARY:They Say Nothing Stays the Same - Film
DESCRIPTION:Friday / March 10\, 2023 / 7:00pm\nJapanese with English subtitles. 137 minutes. Directed by Joe Odagiri. 2019. \nFeaturing an array of Japan’s top stars\, this film follows Toichi (Akira Emoto)\, an aging ferryman in a remote Meiji-era community. His peaceful\, cyclical existence is given meaning by the essential role he plays in transporting people\, livestock and goods across the water. \nWhen news arrives that a bridge is being built upstream\, Toichi finds his life transformed in the name of progress. The sudden arrival of a young girl brings one more dimension to his life. This film has been lauded as having “stunning visuals and a stellar cast\,” by The Japan Times.
URL:https://winonaarts.org/event/they-say-nothing-stays-the-same-film/
LOCATION:Winona Arts Center\, 228 East 5th Street\, Winona\, MN\, 55987\, United States
CATEGORIES:Film
END:VEVENT
END:VCALENDAR